BEGIN:VCALENDAR
VERSION:2.0
PRODID:-//J&amp;J Second Chance Small Holdings - ECPv6.15.20//NONSGML v1.0//EN
CALSCALE:GREGORIAN
METHOD:PUBLISH
X-WR-CALNAME:J&amp;J Second Chance Small Holdings
X-ORIGINAL-URL:https://www.jjsecondchancesmallholdings.com
X-WR-CALDESC:Events for J&amp;J Second Chance Small Holdings
REFRESH-INTERVAL;VALUE=DURATION:PT1H
X-Robots-Tag:noindex
X-PUBLISHED-TTL:PT1H
BEGIN:VTIMEZONE
TZID:UTC
BEGIN:STANDARD
TZOFFSETFROM:+0000
TZOFFSETTO:+0000
TZNAME:UTC
DTSTART:20230101T000000
END:STANDARD
END:VTIMEZONE
BEGIN:VEVENT
DTSTART;TZID=UTC:20240414T090000
DTEND;TZID=UTC:20240414T153000
DTSTAMP:20260426T042022
CREATED:20240112T204239Z
LAST-MODIFIED:20240202T104653Z
UID:3711-1713085200-1713108600@www.jjsecondchancesmallholdings.com
SUMMARY:Baby Area Work Day
DESCRIPTION:? **Baby Goat Area Volunteer Days – By Appointment! ??** \nJoin us for a heartwarming day at J & J Second Chance Small Holdings\, focusing on our adorable baby goats! By appointment only\, you and your group have the opportunity to play a vital role in keeping our baby goats healthy and happy. \n**Farm Help Details: **\n**Days: ** Scheduled days dedicated to the Baby Goat Area.\n**Tasks: ** Assistance with goat care\, petting\, handling\, fencing\, cleaning\, building\, and winter preparations. \n**Appointment and Volunteer Opportunities: **\n– To schedule your visit or volunteer\, contact us at 407-473-2480 (cell phone) or via email at jjsecondchancesmallholdings@gmail.com.\n– Whether you have an hour or two to spare\, your help is immensely appreciated! \n**Baby Goat Focus: **\n– Spend quality time with our baby goats\, contributing to their health and happiness.\n– Pet and interact with our goats\, providing them with the attention they love. \n**Note: **\n– Please be mindful of weather conditions\, as our activities are weather-dependent. \n**Get Involved\, Make a Difference: **\n– Your support directly contributes to the well-being of our baby goats and the overall success of our farm. \nWe’re eager to have you on our farm for a fulfilling experience. Contact us for more information or to schedule your visit to the Baby Goat Area!
URL:https://www.jjsecondchancesmallholdings.com/event/baby-area-work-day-10/
LOCATION:Farm Work Days\, 417 Shultz Rd\, Rock River\, WY\, 82083\, United States
CATEGORIES:Baby Work Day
ORGANIZER;CN="J & J Second Chance Small Holdings - Home":MAILTO:jjsecondchancesmallholdings@gmail.com
END:VEVENT
BEGIN:VEVENT
DTSTART;TZID=UTC:20240407T090000
DTEND;TZID=UTC:20240407T153000
DTSTAMP:20260426T042022
CREATED:20240112T203105Z
LAST-MODIFIED:20240202T105559Z
UID:3705-1712480400-1712503800@www.jjsecondchancesmallholdings.com
SUMMARY:Baby Area Work Day
DESCRIPTION:? **Baby Goat Area Volunteer Days – By Appointment! ??** \nJoin us for a heartwarming day at J & J Second Chance Small Holdings\, focusing on our adorable baby goats! By appointment only\, you and your group have the opportunity to play a vital role in keeping our baby goats healthy and happy. \n**Farm Help Details: **\n**Days: ** Scheduled days dedicated to the Baby Goat Area.\n**Tasks: ** Assistance with goat care\, petting\, handling\, fencing\, cleaning\, building\, and winter preparations. \n**Appointment and Volunteer Opportunities: **\n– To schedule your visit or volunteer\, contact us at 407-473-2480 (cell phone) or via email at jjsecondchancesmallholdings@gmail.com.\n– Whether you have an hour or two to spare\, your help is immensely appreciated! \n**Baby Goat Focus: **\n– Spend quality time with our baby goats\, contributing to their health and happiness.\n– Pet and interact with our goats\, providing them with the attention they love. \n**Note: **\n– Please be mindful of weather conditions\, as our activities are weather-dependent. \n**Get Involved\, Make a Difference: **\n– Your support directly contributes to the well-being of our baby goats and the overall success of our farm. \nWe’re eager to have you on our farm for a fulfilling experience. Contact us for more information or to schedule your visit to the Baby Goat Area!
URL:https://www.jjsecondchancesmallholdings.com/event/baby-area-work-day-8/
LOCATION:Farm Work Days\, 417 Shultz Rd\, Rock River\, WY\, 82083\, United States
CATEGORIES:Baby Work Day
ATTACH;FMTTYPE=image/jpeg:https://www.jjsecondchancesmallholdings.com/wp-content/uploads/IMG_1727-scaled.jpg
ORGANIZER;CN="J & J Second Chance Small Holdings - Home":MAILTO:jjsecondchancesmallholdings@gmail.com
END:VEVENT
BEGIN:VEVENT
DTSTART;TZID=UTC:20240331T090000
DTEND;TZID=UTC:20240331T153000
DTSTAMP:20260426T042022
CREATED:20240112T204048Z
LAST-MODIFIED:20240112T204048Z
UID:3709-1711875600-1711899000@www.jjsecondchancesmallholdings.com
SUMMARY:Baby Area Work Day
DESCRIPTION:This is By Appointment Only! \nThese are days where we work on the baby area of farm. If you’d like to come out or your group and help\, we would love to have you! Please contact us via my cell 407-473-2480. \nOnce a week we focus on the Baby area so that we can keep them healthy and happy. Some of the help we need around the farm is attention to the goats! If you would like to come out and pet them and help us handle some of the goats\, we would love that. We are also working on fencing\, cleaning up\, building and preparing for winter. \nYou can come for just an hour or two!
URL:https://www.jjsecondchancesmallholdings.com/event/baby-area-work-day-9/
LOCATION:Farm Work Days\, 417 Shultz Rd\, Rock River\, WY\, 82083\, United States
CATEGORIES:Baby Work Day
ORGANIZER;CN="J & J Second Chance Small Holdings - Home":MAILTO:jjsecondchancesmallholdings@gmail.com
END:VEVENT
BEGIN:VEVENT
DTSTART;TZID=UTC:20240324T090000
DTEND;TZID=UTC:20240324T153000
DTSTAMP:20260426T042022
CREATED:20240112T200000Z
LAST-MODIFIED:20240112T200000Z
UID:3676-1711270800-1711294200@www.jjsecondchancesmallholdings.com
SUMMARY:Baby Area Work Day
DESCRIPTION:This is By Appointment Only! \nThese are days where we work on the baby area of farm. If you’d like to come out or your group and help\, we would love to have you! Please contact us via my cell 407-473-2480. \nOnce a week we focus on the Baby area so that we can keep them healthy and happy. Some of the help we need around the farm is attention to the goats! If you would like to come out and pet them and help us handle some of the goats\, we would love that. We are also working on fencing\, cleaning up\, building and preparing for winter. \nYou can come for just an hour or two!
URL:https://www.jjsecondchancesmallholdings.com/event/baby-area-work-day-7/
LOCATION:Farm Work Days\, 417 Shultz Rd\, Rock River\, WY\, 82083\, United States
CATEGORIES:Baby Work Day,Farm Work Days,Rescue Day
ORGANIZER;CN="J & J Second Chance Small Holdings - Home":MAILTO:jjsecondchancesmallholdings@gmail.com
END:VEVENT
BEGIN:VEVENT
DTSTART;TZID=UTC:20240317T090000
DTEND;TZID=UTC:20240317T153000
DTSTAMP:20260426T042022
CREATED:20240112T195735Z
LAST-MODIFIED:20240112T195735Z
UID:3673-1710666000-1710689400@www.jjsecondchancesmallholdings.com
SUMMARY:Baby Area Work Day
DESCRIPTION:This is By Appointment Only! \nThese are days where we work on the baby area of farm. If you’d like to come out or your group and help\, we would love to have you! Please contact us via my cell 407-473-2480. \nOnce a week we focus on the Baby area so that we can keep them healthy and happy. Some of the help we need around the farm is attention to the goats! If you would like to come out and pet them and help us handle some of the goats\, we would love that. We are also working on fencing\, cleaning up\, building and preparing for winter. \nYou can come for just an hour or two! \n  \n  \n  \n  \n  \n  \n  \n 
URL:https://www.jjsecondchancesmallholdings.com/event/baby-area-work-day-6/
LOCATION:Farm Work Days\, 417 Shultz Rd\, Rock River\, WY\, 82083\, United States
CATEGORIES:Baby Work Day,Rescue Day
ATTACH;FMTTYPE=image/jpeg:https://www.jjsecondchancesmallholdings.com/wp-content/uploads/IMG_1727-scaled.jpg
ORGANIZER;CN="J & J Second Chance Small Holdings - Home":MAILTO:jjsecondchancesmallholdings@gmail.com
END:VEVENT
BEGIN:VEVENT
DTSTART;TZID=UTC:20240310T090000
DTEND;TZID=UTC:20240310T153000
DTSTAMP:20260426T042022
CREATED:20240112T022644Z
LAST-MODIFIED:20240112T022644Z
UID:3599-1710061200-1710084600@www.jjsecondchancesmallholdings.com
SUMMARY:Baby Area Work Day
DESCRIPTION:This is By Appointment Only! \nThese are days where we work on the baby area of farm. If you’d like to come out or your group and help\, we would love to have you! Please contact us via my cell 407-473-2480. \nOnce a week we focus on the Baby area so that we can keep them healthy and happy. Some of the help we need around the farm is attention to the goats! If you would like to come out and pet them and help us handle some of the goats\, we would love that. We are also working on fencing\, cleaning up\, building and preparing for winter. \nYou can come for just an hour or two!
URL:https://www.jjsecondchancesmallholdings.com/event/baby-area-work-day-5/
LOCATION:Farm Work Days\, 417 Shultz Rd\, Rock River\, WY\, 82083\, United States
CATEGORIES:Baby Work Day
ORGANIZER;CN="J & J Second Chance Small Holdings - Home":MAILTO:jjsecondchancesmallholdings@gmail.com
END:VEVENT
BEGIN:VEVENT
DTSTART;TZID=UTC:20240303T090000
DTEND;TZID=UTC:20240303T153000
DTSTAMP:20260426T042022
CREATED:20240112T022431Z
LAST-MODIFIED:20240112T025154Z
UID:3597-1709456400-1709479800@www.jjsecondchancesmallholdings.com
SUMMARY:Baby Area Work Day
DESCRIPTION:This is By Appointment Only! \nThese are days where we work on the baby area of farm. If you’d like to come out or your group and help\, we would love to have you! Please contact us via my cell 407-473-2480. \nOnce a week we focus on the Baby area so that we can keep them healthy and happy. Some of the help we need around the farm is attention to the goats! If you would like to come out and pet them and help us handle some of the goats\, we would love that. We are also working on fencing\, cleaning up\, building and preparing for winter. \nYou can come for just an hour or two!
URL:https://www.jjsecondchancesmallholdings.com/event/baby-area-farm-work-day-5/
LOCATION:Farm Work Days\, 417 Shultz Rd\, Rock River\, WY\, 82083\, United States
CATEGORIES:Baby Work Day
ORGANIZER;CN="J & J Second Chance Small Holdings - Home":MAILTO:jjsecondchancesmallholdings@gmail.com
END:VEVENT
BEGIN:VEVENT
DTSTART;TZID=UTC:20240225T090000
DTEND;TZID=UTC:20240225T153000
DTSTAMP:20260426T042022
CREATED:20240112T020149Z
LAST-MODIFIED:20240112T024859Z
UID:3575-1708851600-1708875000@www.jjsecondchancesmallholdings.com
SUMMARY:Baby Area Work Day
DESCRIPTION:This is By Appointment Only! \nThese are days where we work on the baby area of farm. If you’d like to come out and help\, we would love to have you! Please contact us via my cell 407-473-2480. \nOnce a week we focus on the Baby area so that we can keep them healthy and happy. Some of the help we need around the farm is attention to the goats! If you would like to come out and pet them and help us handle some of the goats\, we would love that. We are also working on fencing\, cleaning up\, building and preparing for winter. \nYou can come for just an hour or two!
URL:https://www.jjsecondchancesmallholdings.com/event/baby-area-farm-work-day-4/
LOCATION:Farm Work Days\, 417 Shultz Rd\, Rock River\, WY\, 82083\, United States
CATEGORIES:Baby Work Day
ORGANIZER;CN="J & J Second Chance Small Holdings - Home":MAILTO:jjsecondchancesmallholdings@gmail.com
END:VEVENT
BEGIN:VEVENT
DTSTART;TZID=UTC:20240211T090000
DTEND;TZID=UTC:20240211T153000
DTSTAMP:20260426T042022
CREATED:20240111T225111Z
LAST-MODIFIED:20240112T025021Z
UID:3529-1707642000-1707665400@www.jjsecondchancesmallholdings.com
SUMMARY:Baby Area Work Day
DESCRIPTION:This is By Appointment Only! \nThese are days where we work on the baby area of farm. If you’d like to come out and help\, we would love to have you! Please contact us via my cell 407-473-2480. \nOnce a week we focus on the Baby area so that we can keep them healthy and happy. Some of the help we need around the farm is attention to the goats! If you would like to come out and pet them and help us handle some of the goats\, we would love that. We are also working on fencing\, cleaning up\, building and preparing for winter. \nYou can come for just an hour or two!
URL:https://www.jjsecondchancesmallholdings.com/event/baby-area-farm-work-day-3/
LOCATION:Farm Work Days\, 417 Shultz Rd\, Rock River\, WY\, 82083\, United States
CATEGORIES:Baby Work Day
ORGANIZER;CN="J & J Second Chance Small Holdings - Home":MAILTO:jjsecondchancesmallholdings@gmail.com
END:VEVENT
BEGIN:VEVENT
DTSTART;TZID=UTC:20240204T090000
DTEND;TZID=UTC:20240204T153000
DTSTAMP:20260426T042022
CREATED:20240111T224855Z
LAST-MODIFIED:20240111T224855Z
UID:3527-1707037200-1707060600@www.jjsecondchancesmallholdings.com
SUMMARY:Baby Area Farm Work Day
DESCRIPTION:This is By Appointment Only! \nThese are days where we work on the baby area of farm. If you’d like to come out and help\, we would love to have you! Please contact us via my cell 407-473-2480. \nOnce a week we focus on the Baby area so that we can keep them healthy and happy. Some of the help we need around the farm is attention to the goats! If you would like to come out and pet them and help us handle some of the goats\, we would love that. We are also working on fencing\, cleaning up\, building and preparing for winter. \nYou can come for just an hour or two!
URL:https://www.jjsecondchancesmallholdings.com/event/baby-area-farm-work-day-2/
LOCATION:Farm Work Days\, 417 Shultz Rd\, Rock River\, WY\, 82083\, United States
CATEGORIES:Baby Work Day
ORGANIZER;CN="J & J Second Chance Small Holdings - Home":MAILTO:jjsecondchancesmallholdings@gmail.com
END:VEVENT
BEGIN:VEVENT
DTSTART;TZID=UTC:20240128T090000
DTEND;TZID=UTC:20240128T153000
DTSTAMP:20260426T042022
CREATED:20231209T101740Z
LAST-MODIFIED:20231209T101833Z
UID:3279-1706432400-1706455800@www.jjsecondchancesmallholdings.com
SUMMARY:Baby Area Work Day
DESCRIPTION:These are days where we work on the farm. If you’d like to come out and help\, we would love to have you! Please contact us via my cell 407-473-2480. \nOnce a week we focus on the Baby area so that we can keep them healthy and happy. Some of the help we need around the farm is attention to the goats! If you would like to come out and pet them and help us handle some of the goats\, we would love that. We are also working on fencing\, cleaning up\, building and preparing for winter. \nYou can come for just an hour or two!
URL:https://www.jjsecondchancesmallholdings.com/event/baby-area-work-day-4/
LOCATION:Farm Work Days\, 417 Shultz Rd\, Rock River\, WY\, 82083\, United States
CATEGORIES:Baby Work Day
ORGANIZER;CN="J & J Second Chance Small Holdings - Home":MAILTO:jjsecondchancesmallholdings@gmail.com
END:VEVENT
BEGIN:VEVENT
DTSTART;TZID=UTC:20240121T090000
DTEND;TZID=UTC:20240121T153000
DTSTAMP:20260426T042022
CREATED:20231209T101609Z
LAST-MODIFIED:20231209T101609Z
UID:3277-1705827600-1705851000@www.jjsecondchancesmallholdings.com
SUMMARY:Baby Area Work Day
DESCRIPTION:These are days where we work on the farm. If you’d like to come out and help\, we would love to have you! Please contact us via my cell 407-473-2480. \nOnce a week we focus on the Baby area so that we can keep them healthy and happy. Some of the help we need around the farm is attention to the goats! If you would like to come out and pet them and help us handle some of the goats\, we would love that. We are also working on fencing\, cleaning up\, building and preparing for winter. \nYou can come for just an hour or two!
URL:https://www.jjsecondchancesmallholdings.com/event/baby-area-work-day-3/
LOCATION:Farm Work Days\, 417 Shultz Rd\, Rock River\, WY\, 82083\, United States
CATEGORIES:Baby Work Day
ORGANIZER;CN="J & J Second Chance Small Holdings - Home":MAILTO:jjsecondchancesmallholdings@gmail.com
END:VEVENT
BEGIN:VEVENT
DTSTART;TZID=UTC:20240114T090000
DTEND;TZID=UTC:20240114T153000
DTSTAMP:20260426T042022
CREATED:20231209T101341Z
LAST-MODIFIED:20231209T101341Z
UID:3275-1705222800-1705246200@www.jjsecondchancesmallholdings.com
SUMMARY:Baby Area Work Day
DESCRIPTION:These are days where we work on the farm. If you’d like to come out and help\, we would love to have you! Please contact us via my cell 407-473-2480. \nOnce a week we focus on the Baby area so that we can keep them healthy and happy. Some of the help we need around the farm is attention to the goats! If you would like to come out and pet them and help us handle some of the goats\, we would love that. We are also working on fencing\, cleaning up\, building and preparing for winter. \nYou can come for just an hour or two!
URL:https://www.jjsecondchancesmallholdings.com/event/baby-area-work-day-2/
LOCATION:Farm Work Days\, 417 Shultz Rd\, Rock River\, WY\, 82083\, United States
CATEGORIES:Baby Work Day
ORGANIZER;CN="J & J Second Chance Small Holdings - Home":MAILTO:jjsecondchancesmallholdings@gmail.com
END:VEVENT
BEGIN:VEVENT
DTSTART;TZID=UTC:20240107T090000
DTEND;TZID=UTC:20240107T153000
DTSTAMP:20260426T042022
CREATED:20231209T101023Z
LAST-MODIFIED:20231209T101056Z
UID:3272-1704618000-1704641400@www.jjsecondchancesmallholdings.com
SUMMARY:Baby Work Day
DESCRIPTION:These are days where we work on the farm. If you’d like to come out and help\, we would love to have you! Please contact us via my cell 407-473-2480. \nOnce a week we focus on the Baby area so that we can keep them healthy and happy. Some of the help we need around the farm is attention to the goats! If you would like to come out and pet them and help us handle some of the goats\, we would love that. We are also working on fencing\, cleaning up\, building and preparing for winter. \nYou can come for just an hour or two!
URL:https://www.jjsecondchancesmallholdings.com/event/3272/
LOCATION:Farm Work Days\, 417 Shultz Rd\, Rock River\, WY\, 82083\, United States
CATEGORIES:Baby Work Day
ORGANIZER;CN="J & J Second Chance Small Holdings - Home":MAILTO:jjsecondchancesmallholdings@gmail.com
END:VEVENT
END:VCALENDAR