BEGIN:VCALENDAR
VERSION:2.0
PRODID:-//J&amp;J Second Chance Small Holdings - ECPv6.15.18//NONSGML v1.0//EN
CALSCALE:GREGORIAN
METHOD:PUBLISH
X-ORIGINAL-URL:https://www.jjsecondchancesmallholdings.com
X-WR-CALDESC:Events for J&amp;J Second Chance Small Holdings
REFRESH-INTERVAL;VALUE=DURATION:PT1H
X-Robots-Tag:noindex
X-PUBLISHED-TTL:PT1H
BEGIN:VTIMEZONE
TZID:UTC
BEGIN:STANDARD
TZOFFSETFROM:+0000
TZOFFSETTO:+0000
TZNAME:UTC
DTSTART:20250101T000000
END:STANDARD
END:VTIMEZONE
BEGIN:VEVENT
DTSTART;TZID=UTC:20260919T100000
DTEND;TZID=UTC:20260919T160000
DTSTAMP:20260419T155005
CREATED:20260317T130734Z
LAST-MODIFIED:20260317T212413Z
UID:5766-1789812000-1789833600@www.jjsecondchancesmallholdings.com
SUMMARY:Fantasy Festival in Cheyenne Wyoming
DESCRIPTION:Cheyenne Wyoming 10-4 Lions park North side by amphitheater! \nFantasy Festival in Loveland Colorado\nWe have two festival weekends planned in 2026: \n• Cheyenne\, WY – September 19 at Lions Park Amphitheater & Kiwanis House\nWe have the most space at this location\, including two park pavilions and a very large lawn. \n• Loveland\, CO – September 26 at Grimm Brothers Brewery / The Forge Event Center\nThere is considerable lawn space outside this venue that we can utilize. \nEach location will host a Fantasy Market during the day (approximately 10:00 AM – 4:00 PM)featuring vendors\, performances\, and interactive attractions for families and guests of all ages. This is where an interactive setup like the Goat Village would likely be the best fit. \nIn the evening\, the festival transitions into our immersive “Stars Align Fantasy Ball.” The ball runs 7:00–11:00 PM\, and it is a separate ticketed event with immersive storytelling\, performances\, and dancing. Vendors and daytime attractions are not expected to participate in the ball portion\, unless a collaboration naturally fits the storyline. \nIf you would like to be an attraction at the ball\, we can certainly entertain the idea.\nFor attendance\, we are currently projecting 1\,000+ attendees during the daytime festival/mark land approximately 250 guests for the evening ball.
URL:https://www.jjsecondchancesmallholdings.com/event/fantasy-festival-in-cheyenne-wyoming/
LOCATION:Lions Park Cheyenne WY\, 600 S Lions Park Dr\,\, Cheyenne\, Wyoming\, 82001
CATEGORIES:Cheyenne Events
ORGANIZER;CN="Larkspur Events":MAILTO:larkspureventswy@gmail.com
END:VEVENT
END:VCALENDAR