BEGIN:VCALENDAR
VERSION:2.0
PRODID:-//J&amp;J Second Chance Small Holdings - ECPv6.15.18//NONSGML v1.0//EN
CALSCALE:GREGORIAN
METHOD:PUBLISH
X-WR-CALNAME:J&amp;J Second Chance Small Holdings
X-ORIGINAL-URL:https://www.jjsecondchancesmallholdings.com
X-WR-CALDESC:Events for J&amp;J Second Chance Small Holdings
REFRESH-INTERVAL;VALUE=DURATION:PT1H
X-Robots-Tag:noindex
X-PUBLISHED-TTL:PT1H
BEGIN:VTIMEZONE
TZID:UTC
BEGIN:STANDARD
TZOFFSETFROM:+0000
TZOFFSETTO:+0000
TZNAME:UTC
DTSTART:20230101T000000
END:STANDARD
END:VTIMEZONE
BEGIN:VEVENT
DTSTART;TZID=UTC:20240808T100000
DTEND;TZID=UTC:20240808T170000
DTSTAMP:20260420T195641
CREATED:20240806T001735Z
LAST-MODIFIED:20240806T001735Z
UID:4577-1723111200-1723136400@www.jjsecondchancesmallholdings.com
SUMMARY:Class Day - Closed
DESCRIPTION:We teach all kinds of classes.\nPlease contact us for more information thegoatladies307@gmail.com
URL:https://www.jjsecondchancesmallholdings.com/event/class-day-closed/
CATEGORIES:Classes,Closed Event,Farm Visit Days
END:VEVENT
BEGIN:VEVENT
DTSTART;TZID=UTC:20240731T140000
DTEND;TZID=UTC:20240731T170000
DTSTAMP:20260420T195641
CREATED:20240729T185823Z
LAST-MODIFIED:20240729T185823Z
UID:4551-1722434400-1722445200@www.jjsecondchancesmallholdings.com
SUMMARY:Goat Class - Closed
DESCRIPTION:Did you know that we teach classes!\nif you would like to know more please contact us at thegoatladies307@gmail.com or 307-772-1220
URL:https://www.jjsecondchancesmallholdings.com/event/goat-class-closed/
LOCATION:J & J Second Chance Small Holdings – Home\, 330 s 5th Street\,\, Rock River\, WY\, 82083\, United States
CATEGORIES:Classes,Closed Event
ORGANIZER;CN="J & J Second Chance Small Holdings - Home":MAILTO:jjsecondchancesmallholdings@gmail.com
END:VEVENT
END:VCALENDAR