BEGIN:VCALENDAR
VERSION:2.0
PRODID:-//J&amp;J Second Chance Small Holdings - ECPv6.15.20//NONSGML v1.0//EN
CALSCALE:GREGORIAN
METHOD:PUBLISH
X-WR-CALNAME:J&amp;J Second Chance Small Holdings
X-ORIGINAL-URL:https://www.jjsecondchancesmallholdings.com
X-WR-CALDESC:Events for J&amp;J Second Chance Small Holdings
REFRESH-INTERVAL;VALUE=DURATION:PT1H
X-Robots-Tag:noindex
X-PUBLISHED-TTL:PT1H
BEGIN:VTIMEZONE
TZID:UTC
BEGIN:STANDARD
TZOFFSETFROM:+0000
TZOFFSETTO:+0000
TZNAME:UTC
DTSTART:20220101T000000
END:STANDARD
END:VTIMEZONE
BEGIN:VEVENT
DTSTART;TZID=UTC:20240203T090000
DTEND;TZID=UTC:20240203T153000
DTSTAMP:20260421T232911
CREATED:20240111T224408Z
LAST-MODIFIED:20240112T024440Z
UID:3525-1706950800-1706974200@www.jjsecondchancesmallholdings.com
SUMMARY:Rescue Work Day
DESCRIPTION:Remember this is by appointment! \nWeather permitting\, as we are in SE Wyoming.  These are days where we work on the farm and we can use your help!\nIf you’d like to come out and help\, we would love to have you! Please contact us via my cell 407-473-2480.\nSome of the help we need around the farm is attention to the goats! If you would like to come out and pet them and help us handle some of the goats\, they would love that. We are also working on fencing\, cleaning up\, building and getting though our winter. \nYou can come for just an hour or two!
URL:https://www.jjsecondchancesmallholdings.com/event/farm-work-day-65/
LOCATION:Farm Work Days\, 417 Shultz Rd\, Rock River\, WY\, 82083\, United States
CATEGORIES:Farm Work Days
ORGANIZER;CN="J & J Second Chance Small Holdings - Home":MAILTO:jjsecondchancesmallholdings@gmail.com
END:VEVENT
BEGIN:VEVENT
DTSTART;TZID=UTC:20240202T090000
DTEND;TZID=UTC:20240202T153000
DTSTAMP:20260421T232911
CREATED:20240111T224209Z
LAST-MODIFIED:20240112T024455Z
UID:3523-1706864400-1706887800@www.jjsecondchancesmallholdings.com
SUMMARY:Rescue Work Day
DESCRIPTION:Remember this is by appointment! \nWeather permitting\, as we are in SE Wyoming.  These are days where we work on the farm and we can use your help!\nIf you’d like to come out and help\, we would love to have you! Please contact us via my cell 407-473-2480.\nSome of the help we need around the farm is attention to the goats! If you would like to come out and pet them and help us handle some of the goats\, they would love that. We are also working on fencing\, cleaning up\, building and getting though our winter. \nYou can come for just an hour or two!
URL:https://www.jjsecondchancesmallholdings.com/event/farm-work-day-64/
LOCATION:Farm Work Days\, 417 Shultz Rd\, Rock River\, WY\, 82083\, United States
CATEGORIES:Farm Work Days
ORGANIZER;CN="J & J Second Chance Small Holdings - Home":MAILTO:jjsecondchancesmallholdings@gmail.com
END:VEVENT
BEGIN:VEVENT
DTSTART;TZID=UTC:20240201T090000
DTEND;TZID=UTC:20240201T153000
DTSTAMP:20260421T232911
CREATED:20240111T224004Z
LAST-MODIFIED:20240112T024511Z
UID:3521-1706778000-1706801400@www.jjsecondchancesmallholdings.com
SUMMARY:Rescue Work Day
DESCRIPTION:Remember this is by appointment! \nWeather permitting\, as we are in SE Wyoming.  These are days where we work on the farm and we can use your help!\nIf you’d like to come out and help\, we would love to have you! Please contact us via my cell 407-473-2480.\nSome of the help we need around the farm is attention to the goats! If you would like to come out and pet them and help us handle some of the goats\, they would love that. We are also working on fencing\, cleaning up\, building and getting though our winter. \nYou can come for just an hour or two!
URL:https://www.jjsecondchancesmallholdings.com/event/farm-work-day-63/
LOCATION:Farm Work Days\, 417 Shultz Rd\, Rock River\, WY\, 82083\, United States
CATEGORIES:Farm Work Days
ORGANIZER;CN="J & J Second Chance Small Holdings - Home":MAILTO:jjsecondchancesmallholdings@gmail.com
END:VEVENT
BEGIN:VEVENT
DTSTART;TZID=UTC:20240131T090000
DTEND;TZID=UTC:20240131T153000
DTSTAMP:20260421T232911
CREATED:20240111T223726Z
LAST-MODIFIED:20240112T024523Z
UID:3519-1706691600-1706715000@www.jjsecondchancesmallholdings.com
SUMMARY:Rescue Work Day
DESCRIPTION:Remember this is by appointment! \nWeather permitting\, as we are in SE Wyoming.  These are days where we work on the farm and we can use your help!\nIf you’d like to come out and help\, we would love to have you! Please contact us via my cell 407-473-2480.\nSome of the help we need around the farm is attention to the goats! If you would like to come out and pet them and help us handle some of the goats\, they would love that. We are also working on fencing\, cleaning up\, building and getting though our winter. \nYou can come for just an hour or two!
URL:https://www.jjsecondchancesmallholdings.com/event/farm-work-day-62/
LOCATION:Farm Work Days\, 417 Shultz Rd\, Rock River\, WY\, 82083\, United States
CATEGORIES:Farm Work Days
ORGANIZER;CN="J & J Second Chance Small Holdings - Home":MAILTO:jjsecondchancesmallholdings@gmail.com
END:VEVENT
BEGIN:VEVENT
DTSTART;TZID=UTC:20240129T090000
DTEND;TZID=UTC:20240129T153000
DTSTAMP:20260421T232911
CREATED:20240111T223441Z
LAST-MODIFIED:20240112T024558Z
UID:3517-1706518800-1706542200@www.jjsecondchancesmallholdings.com
SUMMARY:Rescue Work Day
DESCRIPTION:Remember this is by appointment! \nWeather permitting\, as we are in SE Wyoming.  These are days where we work on the farm and we can use your help!\nIf you’d like to come out and help\, we would love to have you! Please contact us via my cell 407-473-2480.\nSome of the help we need around the farm is attention to the goats! If you would like to come out and pet them and help us handle some of the goats\, they would love that. We are also working on fencing\, cleaning up\, building and getting though our winter. \nYou can come for just an hour or two!
URL:https://www.jjsecondchancesmallholdings.com/event/farm-work-day-61/
LOCATION:Farm Work Days\, 417 Shultz Rd\, Rock River\, WY\, 82083\, United States
CATEGORIES:Farm Work Days
ORGANIZER;CN="J & J Second Chance Small Holdings - Home":MAILTO:jjsecondchancesmallholdings@gmail.com
END:VEVENT
BEGIN:VEVENT
DTSTART;TZID=UTC:20240127T090000
DTEND;TZID=UTC:20240127T153000
DTSTAMP:20260421T232911
CREATED:20240111T223230Z
LAST-MODIFIED:20240112T024615Z
UID:3515-1706346000-1706369400@www.jjsecondchancesmallholdings.com
SUMMARY:Rescue Work Day
DESCRIPTION:Remember this is by appointment! \nWeather permitting\, as we are in SE Wyoming.  These are days where we work on the farm and we can use your help!\nIf you’d like to come out and help\, we would love to have you! Please contact us via my cell 407-473-2480.\nSome of the help we need around the farm is attention to the goats! If you would like to come out and pet them and help us handle some of the goats\, they would love that. We are also working on fencing\, cleaning up\, building and getting though our winter. \nYou can come for just an hour or two!
URL:https://www.jjsecondchancesmallholdings.com/event/farm-work-day-60/
LOCATION:Farm Work Days\, 417 Shultz Rd\, Rock River\, WY\, 82083\, United States
CATEGORIES:Farm Work Days
ORGANIZER;CN="J & J Second Chance Small Holdings - Home":MAILTO:jjsecondchancesmallholdings@gmail.com
END:VEVENT
BEGIN:VEVENT
DTSTART;TZID=UTC:20240126T090000
DTEND;TZID=UTC:20240126T153000
DTSTAMP:20260421T232911
CREATED:20240111T223041Z
LAST-MODIFIED:20240112T024630Z
UID:3512-1706259600-1706283000@www.jjsecondchancesmallholdings.com
SUMMARY:Rescue Work Day
DESCRIPTION:Remember this is by appointment! \nWeather permitting\, as we are in SE Wyoming.  These are days where we work on the farm and we can use your help!\nIf you’d like to come out and help\, we would love to have you! Please contact us via my cell 407-473-2480.\nSome of the help we need around the farm is attention to the goats! If you would like to come out and pet them and help us handle some of the goats\, they would love that. We are also working on fencing\, cleaning up\, building and getting though our winter. \nYou can come for just an hour or two!
URL:https://www.jjsecondchancesmallholdings.com/event/farm-work-day-59/
LOCATION:Farm Work Days\, 417 Shultz Rd\, Rock River\, WY\, 82083\, United States
CATEGORIES:Farm Work Days
ATTACH;FMTTYPE=image/jpeg:https://www.jjsecondchancesmallholdings.com/wp-content/uploads/IMG_0431-scaled.jpg
ORGANIZER;CN="J & J Second Chance Small Holdings - Home":MAILTO:jjsecondchancesmallholdings@gmail.com
END:VEVENT
BEGIN:VEVENT
DTSTART;TZID=UTC:20240125T090000
DTEND;TZID=UTC:20240125T153000
DTSTAMP:20260421T232911
CREATED:20240111T222550Z
LAST-MODIFIED:20240112T024645Z
UID:3508-1706173200-1706196600@www.jjsecondchancesmallholdings.com
SUMMARY:Rescue Work Day
DESCRIPTION:Remember this is by appointment! \nWeather permitting\, as we are in SE Wyoming.  These are days where we work on the farm and we can use your help!\nIf you’d like to come out and help\, we would love to have you! Please contact us via my cell 407-473-2480.\nSome of the help we need around the farm is attention to the goats! If you would like to come out and pet them and help us handle some of the goats\, they would love that. We are also working on fencing\, cleaning up\, building and getting though our winter. \nYou can come for just an hour or two!
URL:https://www.jjsecondchancesmallholdings.com/event/farm-work-day-57/
LOCATION:Farm Work Days\, 417 Shultz Rd\, Rock River\, WY\, 82083\, United States
CATEGORIES:Farm Work Days
ORGANIZER;CN="J & J Second Chance Small Holdings - Home":MAILTO:jjsecondchancesmallholdings@gmail.com
END:VEVENT
BEGIN:VEVENT
DTSTART;TZID=UTC:20240124T090000
DTEND;TZID=UTC:20240124T153000
DTSTAMP:20260421T232911
CREATED:20240111T222401Z
LAST-MODIFIED:20240112T024659Z
UID:3506-1706086800-1706110200@www.jjsecondchancesmallholdings.com
SUMMARY:Rescue Work Day
DESCRIPTION:Remember this is by appointment! \nWeather permitting\, as we are in SE Wyoming.  These are days where we work on the farm and we can use your help!\nIf you’d like to come out and help\, we would love to have you! Please contact us via my cell 407-473-2480.\nSome of the help we need around the farm is attention to the goats! If you would like to come out and pet them and help us handle some of the goats\, they would love that. We are also working on fencing\, cleaning up\, building and getting though our winter. \nYou can come for just an hour or two!
URL:https://www.jjsecondchancesmallholdings.com/event/farm-work-day-56/
LOCATION:Farm Work Days\, 417 Shultz Rd\, Rock River\, WY\, 82083\, United States
CATEGORIES:Farm Work Days
ORGANIZER;CN="J & J Second Chance Small Holdings - Home":MAILTO:jjsecondchancesmallholdings@gmail.com
END:VEVENT
BEGIN:VEVENT
DTSTART;TZID=UTC:20240122T090000
DTEND;TZID=UTC:20240122T153000
DTSTAMP:20260421T232911
CREATED:20240111T222222Z
LAST-MODIFIED:20240112T024734Z
UID:3504-1705914000-1705937400@www.jjsecondchancesmallholdings.com
SUMMARY:Rescue Work Days
DESCRIPTION:Remember this is by appointment! \nWeather permitting\, as we are in SE Wyoming.  These are days where we work on the farm and we can use your help!\nIf you’d like to come out and help\, we would love to have you! Please contact us via my cell 407-473-2480.\nSome of the help we need around the farm is attention to the goats! If you would like to come out and pet them and help us handle some of the goats\, they would love that. We are also working on fencing\, cleaning up\, building and getting though our winter. \nYou can come for just an hour or two!
URL:https://www.jjsecondchancesmallholdings.com/event/farm-work-days-23/
LOCATION:Farm Work Days\, 417 Shultz Rd\, Rock River\, WY\, 82083\, United States
CATEGORIES:Farm Work Days
ATTACH;FMTTYPE=image/jpeg:https://www.jjsecondchancesmallholdings.com/wp-content/uploads/400228220_1052009049273704_3209464031162985578_n.jpg
ORGANIZER;CN="J & J Second Chance Small Holdings - Home":MAILTO:jjsecondchancesmallholdings@gmail.com
END:VEVENT
BEGIN:VEVENT
DTSTART;TZID=UTC:20240120T090000
DTEND;TZID=UTC:20240120T153000
DTSTAMP:20260421T232911
CREATED:20240111T222002Z
LAST-MODIFIED:20240112T024304Z
UID:3502-1705741200-1705764600@www.jjsecondchancesmallholdings.com
SUMMARY:Rescue Work Days
DESCRIPTION:Remember this is by appointment! \nWeather permitting\, as we are in SE Wyoming.  These are days where we work on the farm and we can use your help!\nIf you’d like to come out and help\, we would love to have you! Please contact us via my cell 407-473-2480.\nSome of the help we need around the farm is attention to the goats! If you would like to come out and pet them and help us handle some of the goats\, they would love that. We are also working on fencing\, cleaning up\, building and getting though our winter. \nYou can come for just an hour or two!
URL:https://www.jjsecondchancesmallholdings.com/event/farm-work-days-22/
LOCATION:Farm Work Days\, 417 Shultz Rd\, Rock River\, WY\, 82083\, United States
CATEGORIES:Farm Work Days
ORGANIZER;CN="J & J Second Chance Small Holdings - Home":MAILTO:jjsecondchancesmallholdings@gmail.com
END:VEVENT
BEGIN:VEVENT
DTSTART;TZID=UTC:20240115T090000
DTEND;TZID=UTC:20240115T153000
DTSTAMP:20260421T232911
CREATED:20240111T221721Z
LAST-MODIFIED:20240112T024059Z
UID:3500-1705309200-1705332600@www.jjsecondchancesmallholdings.com
SUMMARY:Rescue Work Days
DESCRIPTION:Remember this is by appointment! \nWeather permiting\, as we are in SE Wyoming.  These are days where we work on the farm and we can use your help!\nIf you’d like to come out and help\, we would love to have you! Please contact us via my cell 407-473-2480.\nSome of the help we need around the farm is attention to the goats! If you would like to come out and pet them and help us handle some of the goats\, they would love that. We are also working on fencing\, cleaning up\, building and getting though our winter. \nYou can come for just an hour or two!
URL:https://www.jjsecondchancesmallholdings.com/event/farm-work-days-21/
LOCATION:Farm Work Days\, 417 Shultz Rd\, Rock River\, WY\, 82083\, United States
CATEGORIES:Farm Work Days
ORGANIZER;CN="J & J Second Chance Small Holdings - Home":MAILTO:jjsecondchancesmallholdings@gmail.com
END:VEVENT
BEGIN:VEVENT
DTSTART;TZID=UTC:20240113T090000
DTEND;TZID=UTC:20240113T153000
DTSTAMP:20260421T232911
CREATED:20240111T221431Z
LAST-MODIFIED:20240112T024039Z
UID:3498-1705136400-1705159800@www.jjsecondchancesmallholdings.com
SUMMARY:Rescue Work Days
DESCRIPTION:Remember this is by appointment! \nWeather permiting\, as we are in SE Wyoming.  These are days where we work on the farm and we can use your help!\nIf you’d like to come out and help\, we would love to have you! Please contact us via my cell 407-473-2480.\nSome of the help we need around the farm is attention to the goats! If you would like to come out and pet them and help us handle some of the goats\, they would love that. We are also working on fencing\, cleaning up\, building and getting though our winter. \nYou can come for just an hour or two!
URL:https://www.jjsecondchancesmallholdings.com/event/farm-work-days-20/
LOCATION:Farm Work Days\, 417 Shultz Rd\, Rock River\, WY\, 82083\, United States
CATEGORIES:Farm Work Days
ATTACH;FMTTYPE=image/jpeg:https://www.jjsecondchancesmallholdings.com/wp-content/uploads/372391825_6933129926801668_8310055965384938068_n.jpg
ORGANIZER;CN="J & J Second Chance Small Holdings - Home":MAILTO:jjsecondchancesmallholdings@gmail.com
END:VEVENT
BEGIN:VEVENT
DTSTART;TZID=UTC:20240111T080000
DTEND;TZID=UTC:20240111T170000
DTSTAMP:20260421T232911
CREATED:20240111T222725Z
LAST-MODIFIED:20240111T222725Z
UID:3510-1704960000-1704992400@www.jjsecondchancesmallholdings.com
SUMMARY:Farm Work Day
DESCRIPTION:Remember this is by appointment! \nWeather permitting\, as we are in SE Wyoming.  These are days where we work on the farm and we can use your help!\nIf you’d like to come out and help\, we would love to have you! Please contact us via my cell 407-473-2480.\nSome of the help we need around the farm is attention to the goats! If you would like to come out and pet them and help us handle some of the goats\, they would love that. We are also working on fencing\, cleaning up\, building and getting though our winter. \nYou can come for just an hour or two!
URL:https://www.jjsecondchancesmallholdings.com/event/farm-work-day-58/
LOCATION:Farm Work Days\, 417 Shultz Rd\, Rock River\, WY\, 82083\, United States
CATEGORIES:Farm Work Days
ORGANIZER;CN="J & J Second Chance Small Holdings - Home":MAILTO:jjsecondchancesmallholdings@gmail.com
END:VEVENT
BEGIN:VEVENT
DTSTART;TZID=UTC:20240110T090000
DTEND;TZID=UTC:20240110T153000
DTSTAMP:20260421T232911
CREATED:20231209T184601Z
LAST-MODIFIED:20231209T184601Z
UID:3306-1704877200-1704900600@www.jjsecondchancesmallholdings.com
SUMMARY:Farm Work Day
DESCRIPTION:Start your New Year off right by coming out to help the goats! \nWeather permiting\, these are days where we work on the farm. If you’d like to come out and help\, we would love to have you! Please contact us via my cell 407-473-2480.\nSome of the help we need around the farm is attention to the goats! If you would like to come out and pet them and help us handle some of the goats\, we would love that. We are also working on fencing\, cleaning up\, building and preparing for winter. \nYou can come for just an hour or two!
URL:https://www.jjsecondchancesmallholdings.com/event/farm-work-day-54/
LOCATION:Farm Work Days\, 417 Shultz Rd\, Rock River\, WY\, 82083\, United States
CATEGORIES:Farm Work Days
ORGANIZER;CN="J & J Second Chance Small Holdings - Home":MAILTO:jjsecondchancesmallholdings@gmail.com
END:VEVENT
BEGIN:VEVENT
DTSTART;TZID=UTC:20240108T090000
DTEND;TZID=UTC:20240108T153000
DTSTAMP:20260421T232911
CREATED:20231209T103127Z
LAST-MODIFIED:20231209T103127Z
UID:3285-1704704400-1704727800@www.jjsecondchancesmallholdings.com
SUMMARY:Farm Work Day
DESCRIPTION:Start your New Year off right by coming out to help the goats! \nWeather permiting\, these are days where we work on the farm. If you’d like to come out and help\, we would love to have you! Please contact us via my cell 407-473-2480.\nSome of the help we need around the farm is attention to the goats! If you would like to come out and pet them and help us handle some of the goats\, we would love that. We are also working on fencing\, cleaning up\, building and preparing for winter. \nYou can come for just an hour or two!
URL:https://www.jjsecondchancesmallholdings.com/event/farm-work-day-53/
LOCATION:Farm Work Days\, 417 Shultz Rd\, Rock River\, WY\, 82083\, United States
CATEGORIES:Farm Work Days
ORGANIZER;CN="J & J Second Chance Small Holdings - Home":MAILTO:jjsecondchancesmallholdings@gmail.com
END:VEVENT
BEGIN:VEVENT
DTSTART;TZID=UTC:20240106T090000
DTEND;TZID=UTC:20240106T153000
DTSTAMP:20260421T232911
CREATED:20231209T102728Z
LAST-MODIFIED:20231209T102728Z
UID:3283-1704531600-1704555000@www.jjsecondchancesmallholdings.com
SUMMARY:Farm Work Day
DESCRIPTION:Start your New Year off right by coming out to help the goats! \nWeather permiting\, these are days where we work on the farm. If you’d like to come out and help\, we would love to have you! Please contact us via my cell 407-473-2480.\nSome of the help we need around the farm is attention to the goats! If you would like to come out and pet them and help us handle some of the goats\, we would love that. We are also working on fencing\, cleaning up\, building and preparing for winter. \nYou can come for just an hour or two!
URL:https://www.jjsecondchancesmallholdings.com/event/farm-work-day-52/
LOCATION:Farm Work Days\, 417 Shultz Rd\, Rock River\, WY\, 82083\, United States
CATEGORIES:Farm Work Days
ORGANIZER;CN="J & J Second Chance Small Holdings - Home":MAILTO:jjsecondchancesmallholdings@gmail.com
END:VEVENT
BEGIN:VEVENT
DTSTART;TZID=UTC:20240105T090000
DTEND;TZID=UTC:20240105T153000
DTSTAMP:20260421T232911
CREATED:20231205T183246Z
LAST-MODIFIED:20231209T093017Z
UID:3200-1704445200-1704468600@www.jjsecondchancesmallholdings.com
SUMMARY:Farm Work Day
DESCRIPTION:Start your New Year off right by coming out to help the goats! \nWeather permiting\, these are days where we work on the farm. If you’d like to come out and help\, we would love to have you! Please contact us via my cell 407-473-2480.\nSome of the help we need around the farm is attention to the goats! If you would like to come out and pet them and help us handle some of the goats\, we would love that. We are also working on fencing\, cleaning up\, building and preparing for winter. \nYou can come for just an hour or two!
URL:https://www.jjsecondchancesmallholdings.com/event/farm-work-day-50/
LOCATION:Farm Work Days\, 417 Shultz Rd\, Rock River\, WY\, 82083\, United States
CATEGORIES:Farm Work Days
ORGANIZER;CN="J & J Second Chance Small Holdings - Home":MAILTO:jjsecondchancesmallholdings@gmail.com
END:VEVENT
BEGIN:VEVENT
DTSTART;TZID=UTC:20240104T090000
DTEND;TZID=UTC:20240104T153000
DTSTAMP:20260421T232911
CREATED:20231209T092737Z
LAST-MODIFIED:20231209T092737Z
UID:3257-1704358800-1704382200@www.jjsecondchancesmallholdings.com
SUMMARY:Farm Work Days
DESCRIPTION:Start your New Year off right by coming out to help the goats! \nWeather permiting\, these are days where we work on the farm. If you’d like to come out and help\, we would love to have you! Please contact us via my cell 407-473-2480.\nSome of the help we need around the farm is attention to the goats! If you would like to come out and pet them and help us handle some of the goats\, we would love that. We are also working on fencing\, cleaning up\, building and preparing for winter. \nYou can come for just an hour or two!
URL:https://www.jjsecondchancesmallholdings.com/event/farm-work-days-17/
LOCATION:Farm Work Days\, 417 Shultz Rd\, Rock River\, WY\, 82083\, United States
CATEGORIES:Farm Work Days
ORGANIZER;CN="J & J Second Chance Small Holdings - Home":MAILTO:jjsecondchancesmallholdings@gmail.com
END:VEVENT
BEGIN:VEVENT
DTSTART;TZID=UTC:20240103T090000
DTEND;TZID=UTC:20240103T153000
DTSTAMP:20260421T232911
CREATED:20231209T092115Z
LAST-MODIFIED:20231209T092458Z
UID:3253-1704272400-1704295800@www.jjsecondchancesmallholdings.com
SUMMARY:Farm Work Day
DESCRIPTION:Start your New Year off right by coming out to help the goats! \nWeather permiting\, these are days where we work on the farm. If you’d like to come out and help\, we would love to have you! Please contact us via my cell 407-473-2480.\nSome of the help we need around the farm is attention to the goats! If you would like to come out and pet them and help us handle some of the goats\, we would love that. We are also working on fencing\, cleaning up\, building and preparing for winter. \nYou can come for just an hour or two!
URL:https://www.jjsecondchancesmallholdings.com/event/farm-work-day-51/
LOCATION:Farm Work Days\, 417 Shultz Rd\, Rock River\, WY\, 82083\, United States
CATEGORIES:Farm Work Days
ORGANIZER;CN="J & J Second Chance Small Holdings - Home":MAILTO:jjsecondchancesmallholdings@gmail.com
END:VEVENT
BEGIN:VEVENT
DTSTART;TZID=UTC:20231226T090000
DTEND;TZID=UTC:20231226T153000
DTSTAMP:20260421T232911
CREATED:20231226T162952Z
LAST-MODIFIED:20231226T162952Z
UID:3354-1703581200-1703604600@www.jjsecondchancesmallholdings.com
SUMMARY:Farm work day
DESCRIPTION:We are working at the farm doing a lot of small work due to the weather being terrible.
URL:https://www.jjsecondchancesmallholdings.com/event/farm-work-day-48/
LOCATION:Farm Work Days\, 417 Shultz Rd\, Rock River\, WY\, 82083\, United States
CATEGORIES:Farm Work Days
ORGANIZER;CN="J & J Second Chance Small Holdings - Home":MAILTO:jjsecondchancesmallholdings@gmail.com
END:VEVENT
END:VCALENDAR