BEGIN:VCALENDAR
VERSION:2.0
PRODID:-//J&amp;J Second Chance Small Holdings - ECPv6.15.20//NONSGML v1.0//EN
CALSCALE:GREGORIAN
METHOD:PUBLISH
X-ORIGINAL-URL:https://www.jjsecondchancesmallholdings.com
X-WR-CALDESC:Events for J&amp;J Second Chance Small Holdings
REFRESH-INTERVAL;VALUE=DURATION:PT1H
X-Robots-Tag:noindex
X-PUBLISHED-TTL:PT1H
BEGIN:VTIMEZONE
TZID:UTC
BEGIN:STANDARD
TZOFFSETFROM:+0000
TZOFFSETTO:+0000
TZNAME:UTC
DTSTART:20240101T000000
END:STANDARD
END:VTIMEZONE
BEGIN:VEVENT
DTSTART;TZID=UTC:20250620T120000
DTEND;TZID=UTC:20250620T200000
DTSTAMP:20260422T060414
CREATED:20240821T172626Z
LAST-MODIFIED:20240821T172704Z
UID:4626-1750420800-1750449600@www.jjsecondchancesmallholdings.com
SUMMARY:Kremmling Days Colorado
DESCRIPTION:This is an amazing event in Kremmling Colorado.
URL:https://www.jjsecondchancesmallholdings.com/event/kremmling-days-colorado/
LOCATION:Kremmling\, 203 Park Ave\, Kremmling\, Colorado\, 80495\, United States
CATEGORIES:Kremmling CO Event
END:VEVENT
END:VCALENDAR