BEGIN:VCALENDAR
VERSION:2.0
PRODID:-//J&amp;J Second Chance Small Holdings - ECPv6.15.20//NONSGML v1.0//EN
CALSCALE:GREGORIAN
METHOD:PUBLISH
X-WR-CALNAME:J&amp;J Second Chance Small Holdings
X-ORIGINAL-URL:https://www.jjsecondchancesmallholdings.com
X-WR-CALDESC:Events for J&amp;J Second Chance Small Holdings
REFRESH-INTERVAL;VALUE=DURATION:PT1H
X-Robots-Tag:noindex
X-PUBLISHED-TTL:PT1H
BEGIN:VTIMEZONE
TZID:UTC
BEGIN:STANDARD
TZOFFSETFROM:+0000
TZOFFSETTO:+0000
TZNAME:UTC
DTSTART:20230101T000000
END:STANDARD
END:VTIMEZONE
BEGIN:VEVENT
DTSTART;TZID=UTC:20240726T090000
DTEND;TZID=UTC:20240726T150000
DTSTAMP:20260424T142718
CREATED:20240701T133708Z
LAST-MODIFIED:20240701T133708Z
UID:4498-1721984400-1722006000@www.jjsecondchancesmallholdings.com
SUMMARY:Big Boy Train Medicine Bow
DESCRIPTION:We will be participating in the Big Boy train event in Medicine Bow Wyoming! \nThis is at the Medicine Bow Museum right off Hwy 30 across from the Virginian Hotel. \nCome down and pet the goats!
URL:https://www.jjsecondchancesmallholdings.com/event/big-boy-train-medicine-bow/
CATEGORIES:Medicine Bow Wyoming
END:VEVENT
END:VCALENDAR