BEGIN:VCALENDAR
VERSION:2.0
PRODID:-//J&amp;J Second Chance Small Holdings - ECPv6.15.20//NONSGML v1.0//EN
CALSCALE:GREGORIAN
METHOD:PUBLISH
X-WR-CALNAME:J&amp;J Second Chance Small Holdings
X-ORIGINAL-URL:https://www.jjsecondchancesmallholdings.com
X-WR-CALDESC:Events for J&amp;J Second Chance Small Holdings
REFRESH-INTERVAL;VALUE=DURATION:PT1H
X-Robots-Tag:noindex
X-PUBLISHED-TTL:PT1H
BEGIN:VTIMEZONE
TZID:UTC
BEGIN:STANDARD
TZOFFSETFROM:+0000
TZOFFSETTO:+0000
TZNAME:UTC
DTSTART:20240101T000000
END:STANDARD
END:VTIMEZONE
BEGIN:VEVENT
DTSTART;TZID=UTC:20250423T090000
DTEND;TZID=UTC:20250423T160000
DTSTAMP:20260423T093139
CREATED:20250319T132519Z
LAST-MODIFIED:20250319T132519Z
UID:5038-1745398800-1745424000@www.jjsecondchancesmallholdings.com
SUMMARY:Goat Reading in Rawlins
DESCRIPTION:We are working with Carbon County Child Development Program to bring Goats to Read with the youth. \nI you would like to schedule us to come to your event or school please contact us a thegoatladies307@gmail.com \n 
URL:https://www.jjsecondchancesmallholdings.com/event/goat-reading-in-rawlins/
LOCATION:WY
CATEGORIES:Closed Event,Goat Reading!,Rawlins Event,Saratoga
END:VEVENT
END:VCALENDAR