BEGIN:VCALENDAR
VERSION:2.0
PRODID:-//J&amp;J Second Chance Small Holdings - ECPv6.15.18//NONSGML v1.0//EN
CALSCALE:GREGORIAN
METHOD:PUBLISH
X-WR-CALNAME:J&amp;J Second Chance Small Holdings
X-ORIGINAL-URL:https://www.jjsecondchancesmallholdings.com
X-WR-CALDESC:Events for J&amp;J Second Chance Small Holdings
REFRESH-INTERVAL;VALUE=DURATION:PT1H
X-Robots-Tag:noindex
X-PUBLISHED-TTL:PT1H
BEGIN:VTIMEZONE
TZID:UTC
BEGIN:STANDARD
TZOFFSETFROM:+0000
TZOFFSETTO:+0000
TZNAME:UTC
DTSTART:20230101T000000
END:STANDARD
END:VTIMEZONE
BEGIN:VEVENT
DTSTART;TZID=UTC:20251011T110000
DTEND;TZID=UTC:20251011T170000
DTSTAMP:20260420T053920
CREATED:20250804T221734Z
LAST-MODIFIED:20250804T221827Z
UID:5325-1760180400-1760202000@www.jjsecondchancesmallholdings.com
SUMMARY:Pickin' on Platte - Saratoga
DESCRIPTION:This is a pending event… This is a concert and events for families.
URL:https://www.jjsecondchancesmallholdings.com/event/pickin-on-platte-saratoga/
LOCATION:Platte Vally Community Center\, 210 W Elm Ave\, Saratoga\, WY\, 82331\, United States
CATEGORIES:Saratoga
ATTACH;FMTTYPE=image/jpeg:https://www.jjsecondchancesmallholdings.com/wp-content/uploads/IMG_20230807_100514_237.jpg
END:VEVENT
BEGIN:VEVENT
DTSTART;TZID=UTC:20250423T090000
DTEND;TZID=UTC:20250423T160000
DTSTAMP:20260420T053920
CREATED:20250319T132519Z
LAST-MODIFIED:20250319T132519Z
UID:5038-1745398800-1745424000@www.jjsecondchancesmallholdings.com
SUMMARY:Goat Reading in Rawlins
DESCRIPTION:We are working with Carbon County Child Development Program to bring Goats to Read with the youth. \nI you would like to schedule us to come to your event or school please contact us a thegoatladies307@gmail.com \n 
URL:https://www.jjsecondchancesmallholdings.com/event/goat-reading-in-rawlins/
LOCATION:WY
CATEGORIES:Closed Event,Goat Reading!,Rawlins Event,Saratoga
END:VEVENT
BEGIN:VEVENT
DTSTART;TZID=UTC:20240922T140000
DTEND;TZID=UTC:20240922T170000
DTSTAMP:20260420T053920
CREATED:20240708T182150Z
LAST-MODIFIED:20240801T152641Z
UID:4524-1727013600-1727024400@www.jjsecondchancesmallholdings.com
SUMMARY:Saratoga Farmers Market 2024
DESCRIPTION:We will be at the Saratoga Farmers Market this year!\nCome down and visit the Goats!\nThis is a by Donation event\nThis is the first date\nThis is from 1-5pm
URL:https://www.jjsecondchancesmallholdings.com/event/saratoga-farmers-market-2024-6/
LOCATION:Saratoga Farmers Market 2024\, 403 E Bridge Ave Saratoga\, Saratoga\, Wyoming\, 82031
CATEGORIES:Farmers Markets,Saratoga
END:VEVENT
BEGIN:VEVENT
DTSTART;TZID=UTC:20240908T140000
DTEND;TZID=UTC:20240908T170000
DTSTAMP:20260420T053920
CREATED:20240708T181339Z
LAST-MODIFIED:20240801T152918Z
UID:4521-1725804000-1725814800@www.jjsecondchancesmallholdings.com
SUMMARY:Saratoga Farmers Market 2024
DESCRIPTION:We will be at the Saratoga Farmers Market this year!\nCome down and visit the Goats!\nThis is a by Donation event\nThis is from 1-5pm
URL:https://www.jjsecondchancesmallholdings.com/event/saratoga-farmers-market-2024-5/
LOCATION:WY
CATEGORIES:Farmers Markets,Saratoga
END:VEVENT
BEGIN:VEVENT
DTSTART;TZID=UTC:20240901T140000
DTEND;TZID=UTC:20240901T170000
DTSTAMP:20260420T053920
CREATED:20240708T180206Z
LAST-MODIFIED:20240801T153045Z
UID:4519-1725199200-1725210000@www.jjsecondchancesmallholdings.com
SUMMARY:Saratoga Farmers Market
DESCRIPTION:We will be at the Saratoga Farmers Market this year!\nCome down and visit the Goats!\nThis is a by Donation event\nThis is from 1-5pm
URL:https://www.jjsecondchancesmallholdings.com/event/saratoga-farmers-market-9/
LOCATION:WY
CATEGORIES:Farmers Markets,Saratoga
END:VEVENT
BEGIN:VEVENT
DTSTART;TZID=UTC:20240818T140000
DTEND;TZID=UTC:20240818T170000
DTSTAMP:20260420T053920
CREATED:20240708T175857Z
LAST-MODIFIED:20240801T153218Z
UID:4517-1723989600-1724000400@www.jjsecondchancesmallholdings.com
SUMMARY:Saratoga Farmers Market 2024
DESCRIPTION:σWe will be at the Saratoga Farmers Market this year!\nCome down and visit the Goats!\nThis is a by Donation event\nThis is from 1-5pm
URL:https://www.jjsecondchancesmallholdings.com/event/saratoga-farmers-market-2024-4/
LOCATION:WY
CATEGORIES:Saratoga
END:VEVENT
BEGIN:VEVENT
DTSTART;TZID=UTC:20240804T140000
DTEND;TZID=UTC:20240804T170000
DTSTAMP:20260420T053920
CREATED:20240708T175542Z
LAST-MODIFIED:20240801T153338Z
UID:4515-1722780000-1722790800@www.jjsecondchancesmallholdings.com
SUMMARY:Saratoga Farmers Market 2024
DESCRIPTION:We will be at the Saratoga Farmers Market this year!\nCome down and visit the Goats!\nThis is a by Donation event\nThis is from 1-5pm
URL:https://www.jjsecondchancesmallholdings.com/event/saratoga-farmers-market-2024-3/
LOCATION:WY
CATEGORIES:Saratoga
END:VEVENT
BEGIN:VEVENT
DTSTART;TZID=UTC:20240721T140000
DTEND;TZID=UTC:20240721T170000
DTSTAMP:20260420T053920
CREATED:20240708T175315Z
LAST-MODIFIED:20240708T175315Z
UID:4513-1721570400-1721581200@www.jjsecondchancesmallholdings.com
SUMMARY:Saratoga Farmers Market 2024
DESCRIPTION:We will be at the Saratoga Farmers Market this year!\nCome down and visit the Goats!\nThis is a by Donation event\nThis is the first date\nThis is from 2-5pm\nAt the American Legion Saratoga – at the end of Main Street in Saratoga\n403 E Bridge Ave\nSaratoga\, WY 82331\nParking will be available in Triple D Construction’s parking lot
URL:https://www.jjsecondchancesmallholdings.com/event/saratoga-farmers-market-2024-2/
LOCATION:Saratoga Farmers Market 2024\, 403 E Bridge Ave Saratoga\, Saratoga\, Wyoming\, 82031
CATEGORIES:Saratoga
END:VEVENT
BEGIN:VEVENT
DTSTART;TZID=UTC:20240707T140000
DTEND;TZID=UTC:20240707T170000
DTSTAMP:20260420T053920
CREATED:20240626T182024Z
LAST-MODIFIED:20240626T182157Z
UID:4480-1720360800-1720371600@www.jjsecondchancesmallholdings.com
SUMMARY:Saratoga Farmers Market 2024
DESCRIPTION:We will be at the Saratoga Farmers Market this year!\nCome down and visit the Goats!\nThis is a by Donation event\nThis is the first date\nThis is from 2-5pm\nAt the American Legion Saratoga – at the end of Main Street in Saratoga\n403 E Bridge Ave\nSaratoga\, WY 82331\nParking will be available in Triple D Construction’s parking lot
URL:https://www.jjsecondchancesmallholdings.com/event/saratoga-farmers-market-2024/
LOCATION:Saratoga Farmers Market 2024\, 403 E Bridge Ave Saratoga\, Saratoga\, Wyoming\, 82031
CATEGORIES:Saratoga
ATTACH;FMTTYPE=image/jpeg:https://www.jjsecondchancesmallholdings.com/wp-content/uploads/Goat-scaled.jpg
END:VEVENT
END:VCALENDAR