BEGIN:VCALENDAR
VERSION:2.0
PRODID:-//J&amp;J Second Chance Small Holdings - ECPv6.15.20//NONSGML v1.0//EN
CALSCALE:GREGORIAN
METHOD:PUBLISH
X-WR-CALNAME:J&amp;J Second Chance Small Holdings
X-ORIGINAL-URL:https://www.jjsecondchancesmallholdings.com
X-WR-CALDESC:Events for J&amp;J Second Chance Small Holdings
REFRESH-INTERVAL;VALUE=DURATION:PT1H
X-Robots-Tag:noindex
X-PUBLISHED-TTL:PT1H
BEGIN:VTIMEZONE
TZID:UTC
BEGIN:STANDARD
TZOFFSETFROM:+0000
TZOFFSETTO:+0000
TZNAME:UTC
DTSTART:20250101T000000
END:STANDARD
END:VTIMEZONE
BEGIN:VEVENT
DTSTART;TZID=UTC:20260707T150000
DTEND;TZID=UTC:20260707T183000
DTSTAMP:20260423T081701
CREATED:20260421T183345Z
LAST-MODIFIED:20260421T183345Z
UID:5933-1783436400-1783449000@www.jjsecondchancesmallholdings.com
SUMMARY:Tuesday Market - Undine Park
DESCRIPTION:We will be participating in the Tuesday market on select days this summer\nCome check out the amazing vendors that will be there
URL:https://www.jjsecondchancesmallholdings.com/event/tuesday-market-undine-park-2/
LOCATION:Tuesday Market Laramie Wyoming\, Undine Park\, 800-898 S 7th St\, Laramie\, WY\, 82070\, United States
CATEGORIES:Farmers Markets,Laramie Event,Laramie Events,Tuesday Market
END:VEVENT
BEGIN:VEVENT
DTSTART;TZID=UTC:20260714T150000
DTEND;TZID=UTC:20260714T183000
DTSTAMP:20260423T081702
CREATED:20260421T183623Z
LAST-MODIFIED:20260421T183623Z
UID:5935-1784041200-1784053800@www.jjsecondchancesmallholdings.com
SUMMARY:Tuesday Market - Undine Park
DESCRIPTION:We will be participating in the Tuesday Market on select days.\nMake sure you checkout the amazing vendors at the tuesday market
URL:https://www.jjsecondchancesmallholdings.com/event/tuesday-market-undine-park-3/
LOCATION:Tuesday Market Laramie Wyoming\, Undine Park\, 800-898 S 7th St\, Laramie\, WY\, 82070\, United States
CATEGORIES:Farmers Markets,Laramie Event,Laramie Events,Tuesday Market
END:VEVENT
END:VCALENDAR