BEGIN:VCALENDAR
VERSION:2.0
PRODID:-//J&amp;J Second Chance Small Holdings - ECPv6.15.20//NONSGML v1.0//EN
CALSCALE:GREGORIAN
METHOD:PUBLISH
X-WR-CALNAME:J&amp;J Second Chance Small Holdings
X-ORIGINAL-URL:https://www.jjsecondchancesmallholdings.com
X-WR-CALDESC:Events for J&amp;J Second Chance Small Holdings
REFRESH-INTERVAL;VALUE=DURATION:PT1H
X-Robots-Tag:noindex
X-PUBLISHED-TTL:PT1H
BEGIN:VTIMEZONE
TZID:UTC
BEGIN:STANDARD
TZOFFSETFROM:+0000
TZOFFSETTO:+0000
TZNAME:UTC
DTSTART:20250101T000000
END:STANDARD
END:VTIMEZONE
BEGIN:VEVENT
DTSTART;TZID=UTC:20260410T183000
DTEND;TZID=UTC:20260410T210000
DTSTAMP:20260422T130902
CREATED:20260327T221039Z
LAST-MODIFIED:20260404T171902Z
UID:5840-1775845800-1775854800@www.jjsecondchancesmallholdings.com
SUMMARY:UW - Volunteer Event at the Educator Auditorium
DESCRIPTION:You’re invited to a FREE screening of the documentary “Join or Die” on Friday\, April 10th at the UW Education Auditorium. Doors will open at 6:30pm.  Prior to the screening\, there will be a slideshow of various volunteer opportunities in Laramie. Free popcorn\, candy and soda will be available for you to enjoy during the screening. The screening will start at 7pm. The run time is 93 minutes. After the documentary\, there will be a brief discussion and volunteer organizations will host a “Join Fair” where you can learn more about their opportunities and sign up to get involved. \nThis is a volunteer finding event and Movie – We will NOT be there with the goats! \nFor more information please contact – Melissa Smith Cormican\, Laramie Main Street Alliance Volunteer\nPennygr8@gmail.com    919-698-4212
URL:https://www.jjsecondchancesmallholdings.com/event/uw-volunteer-event-at-the-educator-auditorium/
CATEGORIES:University of Wyoming,UW
END:VEVENT
END:VCALENDAR