BEGIN:VCALENDAR
VERSION:2.0
PRODID:-//J&amp;J Second Chance Small Holdings - ECPv6.15.20//NONSGML v1.0//EN
CALSCALE:GREGORIAN
METHOD:PUBLISH
X-WR-CALNAME:J&amp;J Second Chance Small Holdings
X-ORIGINAL-URL:https://www.jjsecondchancesmallholdings.com
X-WR-CALDESC:Events for J&amp;J Second Chance Small Holdings
REFRESH-INTERVAL;VALUE=DURATION:PT1H
X-Robots-Tag:noindex
X-PUBLISHED-TTL:PT1H
BEGIN:VTIMEZONE
TZID:UTC
BEGIN:STANDARD
TZOFFSETFROM:+0000
TZOFFSETTO:+0000
TZNAME:UTC
DTSTART:20240101T000000
END:STANDARD
END:VTIMEZONE
BEGIN:VEVENT
DTSTART;TZID=UTC:20250809T090000
DTEND;TZID=UTC:20250809T170000
DTSTAMP:20260425T194047
CREATED:20250804T215154Z
LAST-MODIFIED:20250804T215154Z
UID:5317-1754730000-1754758800@www.jjsecondchancesmallholdings.com
SUMMARY:Rescue Work Day – Come Lend a Hand!
DESCRIPTION:Rescue Work Day – Come Lend a Hand! \nWe’re hosting a Rescue Work Day and would love your help! We’ll be working on fencing projects and building new shelters to improve the lives of the animals here at the rescue. It’s also a great opportunity to spend time with the animals and see the difference your support makes! \nIf you plan to join us\, we provide a meal for all volunteers. Please let us know if you have any dietary restrictions so we can do our best to accommodate. \nCome ready to work\, get a little dirty\, and leave with a full heart.Let us know you’re coming so we can plan accordingly!
URL:https://www.jjsecondchancesmallholdings.com/event/rescue-work-day-come-lend-a-hand/
LOCATION:J & J Second Chance Small Holdings – Rescue\, 417 Schultz Rd\, Rock River\, 82083\, United States
CATEGORIES:Farm Work Days,Rock River Wyoming
ORGANIZER;CN="J & J Second Chance Small Holdings - Home":MAILTO:jjsecondchancesmallholdings@gmail.com
END:VEVENT
END:VCALENDAR