BEGIN:VCALENDAR
VERSION:2.0
PRODID:-//J&amp;J Second Chance Small Holdings - ECPv6.15.18//NONSGML v1.0//EN
CALSCALE:GREGORIAN
METHOD:PUBLISH
X-WR-CALNAME:J&amp;J Second Chance Small Holdings
X-ORIGINAL-URL:https://www.jjsecondchancesmallholdings.com
X-WR-CALDESC:Events for J&amp;J Second Chance Small Holdings
REFRESH-INTERVAL;VALUE=DURATION:PT1H
X-Robots-Tag:noindex
X-PUBLISHED-TTL:PT1H
BEGIN:VTIMEZONE
TZID:UTC
BEGIN:STANDARD
TZOFFSETFROM:+0000
TZOFFSETTO:+0000
TZNAME:UTC
DTSTART:20240101T000000
END:STANDARD
END:VTIMEZONE
BEGIN:VEVENT
DTSTART;TZID=UTC:20250830T090000
DTEND;TZID=UTC:20250830T180000
DTSTAMP:20260421T065111
CREATED:20250804T220848Z
LAST-MODIFIED:20250829T231530Z
UID:5321-1756544400-1756576800@www.jjsecondchancesmallholdings.com
SUMMARY:Cancelled Soap Box Derby - Cheyenne
DESCRIPTION:This has been cancelled due to rain! \nWe will be there with the Goats
URL:https://www.jjsecondchancesmallholdings.com/event/soap-box-derby-cheyenne/
LOCATION:Home Field Events Center\, 608 Ave D\, Cheyenne\, WY\, 82007\, United States
CATEGORIES:Cheyenne Events
ATTACH;FMTTYPE=image/png:https://www.jjsecondchancesmallholdings.com/wp-content/uploads/Soap-Box-derby.png
END:VEVENT
END:VCALENDAR