BEGIN:VCALENDAR
VERSION:2.0
PRODID:-//J&amp;J Second Chance Small Holdings - ECPv6.15.20//NONSGML v1.0//EN
CALSCALE:GREGORIAN
METHOD:PUBLISH
X-ORIGINAL-URL:https://www.jjsecondchancesmallholdings.com
X-WR-CALDESC:Events for J&amp;J Second Chance Small Holdings
REFRESH-INTERVAL;VALUE=DURATION:PT1H
X-Robots-Tag:noindex
X-PUBLISHED-TTL:PT1H
BEGIN:VTIMEZONE
TZID:UTC
BEGIN:STANDARD
TZOFFSETFROM:+0000
TZOFFSETTO:+0000
TZNAME:UTC
DTSTART:20240101T000000
END:STANDARD
END:VTIMEZONE
BEGIN:VEVENT
DTSTART;VALUE=DATE:20250716
DTEND;VALUE=DATE:20250717
DTSTAMP:20260421T203226
CREATED:20250427T152024Z
LAST-MODIFIED:20250427T152530Z
UID:5062-1752624000-1752710399@www.jjsecondchancesmallholdings.com
SUMMARY:WyoGives
DESCRIPTION:We are apart of WyoGives!\nPlease support us on July 16th!\nThis is all day fundraiser.\nIf you Can help us in anyway\, to promote us\, donate\, post on your sites\, let me know!\nHere is our link to WyoGives\nhttps://www.wyogives.org/organizations/j-j-second-chance-small-holdings \nthegoatladies307@gmail.com
URL:https://www.jjsecondchancesmallholdings.com/event/wyogives/
LOCATION:J & J Second Chance Small Holdings – Home\, 330 s 5th Street\,\, Rock River\, WY\, 82083\, United States
ATTACH;FMTTYPE=image/jpeg:https://www.jjsecondchancesmallholdings.com/wp-content/uploads/Goat-4.jpeg
ORGANIZER;CN="J & J Second Chance Small Holdings - Home":MAILTO:jjsecondchancesmallholdings@gmail.com
END:VEVENT
END:VCALENDAR