BEGIN:VCALENDAR
VERSION:2.0
PRODID:-//J&amp;J Second Chance Small Holdings - ECPv6.15.18//NONSGML v1.0//EN
CALSCALE:GREGORIAN
METHOD:PUBLISH
X-ORIGINAL-URL:https://www.jjsecondchancesmallholdings.com
X-WR-CALDESC:Events for J&amp;J Second Chance Small Holdings
REFRESH-INTERVAL;VALUE=DURATION:PT1H
X-Robots-Tag:noindex
X-PUBLISHED-TTL:PT1H
BEGIN:VTIMEZONE
TZID:UTC
BEGIN:STANDARD
TZOFFSETFROM:+0000
TZOFFSETTO:+0000
TZNAME:UTC
DTSTART:20250101T000000
END:STANDARD
END:VTIMEZONE
BEGIN:VEVENT
DTSTART;TZID=UTC:20260709T120000
DTEND;TZID=UTC:20260709T210000
DTSTAMP:20260420T034037
CREATED:20251003T213835Z
LAST-MODIFIED:20251006T045705Z
UID:5362-1783598400-1783630800@www.jjsecondchancesmallholdings.com
SUMMARY:Jubilee Days - Down Town Laramie Wyoming
DESCRIPTION:🎉 Pending Event Announcement! 🎉 \nWe’re thrilled to share that we plan to be part of Laramie Jubilee Days 2026 — happening July 9th\, 10th\, and 11th in Downtown Laramie\, Wyoming! \nCome on down and meet the goats\, learn about what we do at J & J Second Chance Small Holdings / The Goat Ladies LLC\, and enjoy a little “Goat Therapy” right in the heart of Laramie. It’s always a fun\, educational\, and heartwarming time for the whole family! \nStay tuned for updates as we get closer to the event — we can’t wait to celebrate Jubilee Days with all of you! 🐐💛
URL:https://www.jjsecondchancesmallholdings.com/event/jubilee-days-laramie-wyoming/
LOCATION:Jubilee Downtown Days\, 2nd Street\, Laramie\, WY\, 82070\, United States
CATEGORIES:Laramie Event,Laramie Events,Wyoming
END:VEVENT
END:VCALENDAR