BEGIN:VCALENDAR
VERSION:2.0
PRODID:-//J&amp;J Second Chance Small Holdings - ECPv6.15.20//NONSGML v1.0//EN
CALSCALE:GREGORIAN
METHOD:PUBLISH
X-ORIGINAL-URL:https://www.jjsecondchancesmallholdings.com
X-WR-CALDESC:Events for J&amp;J Second Chance Small Holdings
REFRESH-INTERVAL;VALUE=DURATION:PT1H
X-Robots-Tag:noindex
X-PUBLISHED-TTL:PT1H
BEGIN:VTIMEZONE
TZID:UTC
BEGIN:STANDARD
TZOFFSETFROM:+0000
TZOFFSETTO:+0000
TZNAME:UTC
DTSTART:20240101T000000
END:STANDARD
END:VTIMEZONE
BEGIN:VEVENT
DTSTART;TZID=UTC:20250501T070000
DTEND;TZID=UTC:20250630T190000
DTSTAMP:20260426T042037
CREATED:20250416T163944Z
LAST-MODIFIED:20250501T155606Z
UID:5049-1746082800-1751310000@www.jjsecondchancesmallholdings.com
SUMMARY:We are the Round-up Non-profit at Murdoch's in Laramie
DESCRIPTION:We are Murdoch’s in Laramie round up Non-Profit for the month of May and June!\nIf you would like to support the rescue please come out and support us!\nWe will be set up a few days trough out the two months at the Murdoch’s in Laramie.\nCome Down and pet and play with the Goats! Keep a watch out for the days we will be there in person/goat!
URL:https://www.jjsecondchancesmallholdings.com/event/goats-at-murdocks-in-laramie/
LOCATION:Laramie Murdochs\, 3322 Grand Ave\, Laramie\, WY\, 82070\, United States
CATEGORIES:Laramie Event,Murdoch's Laramie
ATTACH;FMTTYPE=image/jpeg:https://www.jjsecondchancesmallholdings.com/wp-content/uploads/Goat-with-wings.jpg
ORGANIZER;CN="J & J Second Chance Small Holdings - Home":MAILTO:jjsecondchancesmallholdings@gmail.com
END:VEVENT
BEGIN:VEVENT
DTSTART;TZID=UTC:20250601T110000
DTEND;TZID=UTC:20250601T180000
DTSTAMP:20260426T042037
CREATED:20250515T153714Z
LAST-MODIFIED:20250515T153714Z
UID:5136-1748775600-1748800800@www.jjsecondchancesmallholdings.com
SUMMARY:Goat Therapy at Murdoch’s – Laramie
DESCRIPTION:Come Snuggle Baby Goats at Murdoch’s in Laramie!\nJoin J & J Second Chance Small Holdings at Murdoch’s in Laramie for a special baby goat therapy event! Whether you’re a lifelong animal lover or just need a moment to decompress\, our sweet\, playful baby goats are here to bring comfort\, laughter\, and connection. \n🐐 Baby Goat Therapy – By Donation\nCome pet\, snuggle\, and spend time with our baby goats—it’s the perfect opportunity to relax\, de-stress\, and enjoy the simple joy of being around animals. These little ones love attention and are great with people of all ages. Whether you’re stopping by for a few minutes or planning to stay a while\, we welcome you to soak up the peaceful\, joyful energy they bring. \nThis event is by donation\, and all proceeds directly benefit our rescue\, which is home to over 250 animals including goats\, mini horses\, cows\, donkeys\, and more. Your support helps us provide daily care\, medical treatment\, food\, and safe shelter to animals who need a second chance. \n💛 Round Up for Rescue – May & June\nWe’re honored to be selected as Murdoch’s Round-Up Nonprofit for May and June! While you’re shopping\, please consider rounding up your total at the register—those small contributions make a huge difference for our rescue family. Every dollar helps us continue our mission of compassion\, rehabilitation\, and lifelong sanctuary for animals in need. \nCome by\, bring a friend\, enjoy the goats\, and help us make a difference—one cuddle and one coin at a time. \nWe hope to see you there!
URL:https://www.jjsecondchancesmallholdings.com/event/goat-therapy-at-murdochs-laramie-6/
LOCATION:Murdoch’s in Laramie\, 3322 Grand Ave\, Laramie\, WY\, 82070\, United States
CATEGORIES:Laramie Event,Laramie Events,Murdoch's Laramie
ATTACH;FMTTYPE=image/jpeg:https://www.jjsecondchancesmallholdings.com/wp-content/uploads/Goat-with-wings.jpg
ORGANIZER;CN="J & J Second Chance Small Holdings - Home":MAILTO:jjsecondchancesmallholdings@gmail.com
END:VEVENT
BEGIN:VEVENT
DTSTART;TZID=UTC:20250607T100000
DTEND;TZID=UTC:20250607T160000
DTSTAMP:20260426T042037
CREATED:20250216T004017Z
LAST-MODIFIED:20250602T201929Z
UID:5027-1749290400-1749312000@www.jjsecondchancesmallholdings.com
SUMMARY:Carbon County Block party at the Carbon County Museum in Rawlins
DESCRIPTION:Carbon County Block party at the Carbon County Museum in Rawlins Wyoming on June 7th 2025 from 10:00am to 4:00pm\n904 West Walnut Street\nRawlins\, WY 82301 \nWe will be there with the goats!
URL:https://www.jjsecondchancesmallholdings.com/event/carbon-county-block-party-at-the-carbon-county-museum-in-rawlins/
LOCATION:Carbon County Musuem\, 904 West Walnut Street\, Rawlins\, WY\, 82301\, United States
END:VEVENT
BEGIN:VEVENT
DTSTART;TZID=UTC:20250607T100000
DTEND;TZID=UTC:20250607T180000
DTSTAMP:20260426T042037
CREATED:20250325T165810Z
LAST-MODIFIED:20250606T162934Z
UID:5043-1749290400-1749319200@www.jjsecondchancesmallholdings.com
SUMMARY:Taste of Laradise
DESCRIPTION:We will be there with the Goats!\nAbout Taste of Laradise\n2nd street infront of Dodds Taste what Laradise has to offer! Come downtown on June 7 from 10 am – 6 pm to sip\, savor\, shop and play. \nWhile Tasters peruse Downtown Laradise\, they receive exclusive access to cocktails\, beer and nonalcoholic beverages in a souvenir cup; delectable food specials at downtown’s unique restaurants; and mind-blowing discounts at premier shops and businesses . Tasters earn raffle tickets throughout the event by visiting participating locations and also by taking advantage of the shopping and dining specials offered. The event culminates in a raffle of some fabulous prize baskets\, including the Grand Prize: a $2\,000 custom travel package! And Tasters aren’t just having fun – making Laradise a better place! Proceeds benefit the Laramie Youth Crisis Center and multiple local Rotary projects.
URL:https://www.jjsecondchancesmallholdings.com/event/taste-of-laradise/
LOCATION:Taste of Laradise\, 2nd Street\, infront of Dodds\, Laramie\, WY\, 82070\, United States
CATEGORIES:Laramie Event,Laramie Events
END:VEVENT
BEGIN:VEVENT
DTSTART;TZID=UTC:20250610T150000
DTEND;TZID=UTC:20250610T180000
DTSTAMP:20260426T042037
CREATED:20250515T155312Z
LAST-MODIFIED:20250515T155312Z
UID:5142-1749567600-1749578400@www.jjsecondchancesmallholdings.com
SUMMARY:Goat Therapy at Murdoch’s – Laramie
DESCRIPTION:Come Snuggle Baby Goats at Murdoch’s in Laramie!\nJoin J & J Second Chance Small Holdings at Murdoch’s in Laramie for a special baby goat therapy event! Whether you’re a lifelong animal lover or just need a moment to decompress\, our sweet\, playful baby goats are here to bring comfort\, laughter\, and connection. \n🐐 Baby Goat Therapy – By Donation\nCome pet\, snuggle\, and spend time with our baby goats—it’s the perfect opportunity to relax\, de-stress\, and enjoy the simple joy of being around animals. These little ones love attention and are great with people of all ages. Whether you’re stopping by for a few minutes or planning to stay a while\, we welcome you to soak up the peaceful\, joyful energy they bring. \nThis event is by donation\, and all proceeds directly benefit our rescue\, which is home to over 250 animals including goats\, mini horses\, cows\, donkeys\, and more. Your support helps us provide daily care\, medical treatment\, food\, and safe shelter to animals who need a second chance. \n💛 Round Up for Rescue – May & June\nWe’re honored to be selected as Murdoch’s Round-Up Nonprofit for May and June! While you’re shopping\, please consider rounding up your total at the register—those small contributions make a huge difference for our rescue family. Every dollar helps us continue our mission of compassion\, rehabilitation\, and lifelong sanctuary for animals in need. \nCome by\, bring a friend\, enjoy the goats\, and help us make a difference—one cuddle and one coin at a time. \nWe hope to see you there!
URL:https://www.jjsecondchancesmallholdings.com/event/goat-therapy-at-murdochs-laramie-9/
LOCATION:Murdoch’s in Laramie\, 3322 Grand Ave\, Laramie\, WY\, 82070\, United States
CATEGORIES:Laramie Event,Laramie Events,Murdoch's Laramie
ATTACH;FMTTYPE=image/jpeg:https://www.jjsecondchancesmallholdings.com/wp-content/uploads/Goat-with-wings.jpg
ORGANIZER;CN="J & J Second Chance Small Holdings - Home":MAILTO:jjsecondchancesmallholdings@gmail.com
END:VEVENT
BEGIN:VEVENT
DTSTART;TZID=UTC:20250615T110000
DTEND;TZID=UTC:20250615T180000
DTSTAMP:20260426T042037
CREATED:20250515T160003Z
LAST-MODIFIED:20250515T160003Z
UID:5144-1749985200-1750010400@www.jjsecondchancesmallholdings.com
SUMMARY:Goat Therapy at Murdoch’s – Laramie
DESCRIPTION:Come Snuggle Baby Goats at Murdoch’s in Laramie!\nJoin J & J Second Chance Small Holdings at Murdoch’s in Laramie for a special baby goat therapy event! Whether you’re a lifelong animal lover or just need a moment to decompress\, our sweet\, playful baby goats are here to bring comfort\, laughter\, and connection. \n🐐 Baby Goat Therapy – By Donation\nCome pet\, snuggle\, and spend time with our baby goats—it’s the perfect opportunity to relax\, de-stress\, and enjoy the simple joy of being around animals. These little ones love attention and are great with people of all ages. Whether you’re stopping by for a few minutes or planning to stay a while\, we welcome you to soak up the peaceful\, joyful energy they bring. \nThis event is by donation\, and all proceeds directly benefit our rescue\, which is home to over 250 animals including goats\, mini horses\, cows\, donkeys\, and more. Your support helps us provide daily care\, medical treatment\, food\, and safe shelter to animals who need a second chance. \n💛 Round Up for Rescue – May & June\nWe’re honored to be selected as Murdoch’s Round-Up Nonprofit for May and June! While you’re shopping\, please consider rounding up your total at the register—those small contributions make a huge difference for our rescue family. Every dollar helps us continue our mission of compassion\, rehabilitation\, and lifelong sanctuary for animals in need. \nCome by\, bring a friend\, enjoy the goats\, and help us make a difference—one cuddle and one coin at a time. \nWe hope to see you there!
URL:https://www.jjsecondchancesmallholdings.com/event/goat-therapy-at-murdochs-laramie-10/
LOCATION:Murdoch’s in Laramie\, 3322 Grand Ave\, Laramie\, WY\, 82070\, United States
CATEGORIES:Laramie Event,Laramie Events,Murdoch's Laramie
ATTACH;FMTTYPE=image/jpeg:https://www.jjsecondchancesmallholdings.com/wp-content/uploads/Goat-with-wings.jpg
ORGANIZER;CN="J & J Second Chance Small Holdings - Home":MAILTO:jjsecondchancesmallholdings@gmail.com
END:VEVENT
BEGIN:VEVENT
DTSTART;TZID=UTC:20250617T150000
DTEND;TZID=UTC:20250617T180000
DTSTAMP:20260426T042037
CREATED:20250515T170145Z
LAST-MODIFIED:20250515T170145Z
UID:5156-1750172400-1750183200@www.jjsecondchancesmallholdings.com
SUMMARY:Goat Therapy at Murdoch’s – Laramie
DESCRIPTION:Come Snuggle Baby Goats at Murdoch’s in Laramie!\nJoin J & J Second Chance Small Holdings at Murdoch’s in Laramie for a special baby goat therapy event! Whether you’re a lifelong animal lover or just need a moment to decompress\, our sweet\, playful baby goats are here to bring comfort\, laughter\, and connection. \n🐐 Baby Goat Therapy – By Donation\nCome pet\, snuggle\, and spend time with our baby goats—it’s the perfect opportunity to relax\, de-stress\, and enjoy the simple joy of being around animals. These little ones love attention and are great with people of all ages. Whether you’re stopping by for a few minutes or planning to stay a while\, we welcome you to soak up the peaceful\, joyful energy they bring. \nThis event is by donation\, and all proceeds directly benefit our rescue\, which is home to over 250 animals including goats\, mini horses\, cows\, donkeys\, and more. Your support helps us provide daily care\, medical treatment\, food\, and safe shelter to animals who need a second chance. \n💛 Round Up for Rescue – May & June\nWe’re honored to be selected as Murdoch’s Round-Up Nonprofit for May and June! While you’re shopping\, please consider rounding up your total at the register—those small contributions make a huge difference for our rescue family. Every dollar helps us continue our mission of compassion\, rehabilitation\, and lifelong sanctuary for animals in need. \nCome by\, bring a friend\, enjoy the goats\, and help us make a difference—one cuddle and one coin at a time. \nWe hope to see you there!
URL:https://www.jjsecondchancesmallholdings.com/event/goat-therapy-at-murdochs-laramie-12/
LOCATION:Murdoch’s in Laramie\, 3322 Grand Ave\, Laramie\, WY\, 82070\, United States
CATEGORIES:Laramie Event,Laramie Events,Murdoch's Laramie
ATTACH;FMTTYPE=image/jpeg:https://www.jjsecondchancesmallholdings.com/wp-content/uploads/Goat-with-wings.jpg
ORGANIZER;CN="J & J Second Chance Small Holdings - Home":MAILTO:jjsecondchancesmallholdings@gmail.com
END:VEVENT
BEGIN:VEVENT
DTSTART;TZID=UTC:20250624T150000
DTEND;TZID=UTC:20250624T180000
DTSTAMP:20260426T042037
CREATED:20250515T171121Z
LAST-MODIFIED:20250515T171121Z
UID:5159-1750777200-1750788000@www.jjsecondchancesmallholdings.com
SUMMARY:Goat Therapy at Murdoch’s – Laramie
DESCRIPTION:Come Snuggle Baby Goats at Murdoch’s in Laramie!\nJoin J & J Second Chance Small Holdings at Murdoch’s in Laramie for a special baby goat therapy event! Whether you’re a lifelong animal lover or just need a moment to decompress\, our sweet\, playful baby goats are here to bring comfort\, laughter\, and connection. \n🐐 Baby Goat Therapy – By Donation\nCome pet\, snuggle\, and spend time with our baby goats—it’s the perfect opportunity to relax\, de-stress\, and enjoy the simple joy of being around animals. These little ones love attention and are great with people of all ages. Whether you’re stopping by for a few minutes or planning to stay a while\, we welcome you to soak up the peaceful\, joyful energy they bring. \nThis event is by donation\, and all proceeds directly benefit our rescue\, which is home to over 250 animals including goats\, mini horses\, cows\, donkeys\, and more. Your support helps us provide daily care\, medical treatment\, food\, and safe shelter to animals who need a second chance. \n💛 Round Up for Rescue – May & June\nWe’re honored to be selected as Murdoch’s Round-Up Nonprofit for May and June! While you’re shopping\, please consider rounding up your total at the register—those small contributions make a huge difference for our rescue family. Every dollar helps us continue our mission of compassion\, rehabilitation\, and lifelong sanctuary for animals in need. \nCome by\, bring a friend\, enjoy the goats\, and help us make a difference—one cuddle and one coin at a time. \nWe hope to see you there!
URL:https://www.jjsecondchancesmallholdings.com/event/goat-therapy-at-murdochs-laramie-13/
LOCATION:Murdoch’s in Laramie\, 3322 Grand Ave\, Laramie\, WY\, 82070\, United States
CATEGORIES:Laramie Event,Laramie Events,Murdoch's Laramie
ATTACH;FMTTYPE=image/jpeg:https://www.jjsecondchancesmallholdings.com/wp-content/uploads/fd9606c5-4d12-4d1b-8331-640e9ef757a7-1-e1725475843332.jpeg
ORGANIZER;CN="J & J Second Chance Small Holdings - Home":MAILTO:jjsecondchancesmallholdings@gmail.com
END:VEVENT
BEGIN:VEVENT
DTSTART;TZID=UTC:20250629T110000
DTEND;TZID=UTC:20250629T180000
DTSTAMP:20260426T042037
CREATED:20250515T154400Z
LAST-MODIFIED:20250629T170326Z
UID:5138-1751194800-1751220000@www.jjsecondchancesmallholdings.com
SUMMARY:Cancelled! Goat Therapy at Murdoch’s – Laramie
DESCRIPTION:Cancelled! Due to technical issues…..Come Snuggle Baby Goats at Murdoch’s in Laramie!\nJoin J & J Second Chance Small Holdings at Murdoch’s in Laramie for a special baby goat therapy event! Whether you’re a lifelong animal lover or just need a moment to decompress\, our sweet\, playful baby goats are here to bring comfort\, laughter\, and connection. \n🐐 Baby Goat Therapy – By Donation\nCome pet\, snuggle\, and spend time with our baby goats—it’s the perfect opportunity to relax\, de-stress\, and enjoy the simple joy of being around animals. These little ones love attention and are great with people of all ages. Whether you’re stopping by for a few minutes or planning to stay a while\, we welcome you to soak up the peaceful\, joyful energy they bring. \nThis event is by donation\, and all proceeds directly benefit our rescue\, which is home to over 250 animals including goats\, mini horses\, cows\, donkeys\, and more. Your support helps us provide daily care\, medical treatment\, food\, and safe shelter to animals who need a second chance. \n💛 Round Up for Rescue – May & June\nWe’re honored to be selected as Murdoch’s Round-Up Nonprofit for May and June! While you’re shopping\, please consider rounding up your total at the register—those small contributions make a huge difference for our rescue family. Every dollar helps us continue our mission of compassion\, rehabilitation\, and lifelong sanctuary for animals in need. \nCome by\, bring a friend\, enjoy the goats\, and help us make a difference—one cuddle and one coin at a time. \nWe hope to see you there!
URL:https://www.jjsecondchancesmallholdings.com/event/goat-therapy-at-murdochs-laramie-7/
LOCATION:Murdoch’s in Laramie\, 3322 Grand Ave\, Laramie\, WY\, 82070\, United States
CATEGORIES:Laramie Event,Laramie Events,Murdoch's Laramie
ATTACH;FMTTYPE=image/jpeg:https://www.jjsecondchancesmallholdings.com/wp-content/uploads/Goat-with-wings.jpg
ORGANIZER;CN="J & J Second Chance Small Holdings - Home":MAILTO:jjsecondchancesmallholdings@gmail.com
END:VEVENT
BEGIN:VEVENT
DTSTART;TZID=UTC:20250630T150000
DTEND;TZID=UTC:20250630T180000
DTSTAMP:20260426T042037
CREATED:20250515T160446Z
LAST-MODIFIED:20250515T161830Z
UID:5146-1751295600-1751306400@www.jjsecondchancesmallholdings.com
SUMMARY:Goat Therapy at Murdoch’s – Laramie
DESCRIPTION:Come Snuggle Baby Goats at Murdoch’s in Laramie!\nJoin J & J Second Chance Small Holdings at Murdoch’s in Laramie for a special baby goat therapy event! Whether you’re a lifelong animal lover or just need a moment to decompress\, our sweet\, playful baby goats are here to bring comfort\, laughter\, and connection. \n🐐 Baby Goat Therapy – By Donation\nCome pet\, snuggle\, and spend time with our baby goats—it’s the perfect opportunity to relax\, de-stress\, and enjoy the simple joy of being around animals. These little ones love attention and are great with people of all ages. Whether you’re stopping by for a few minutes or planning to stay a while\, we welcome you to soak up the peaceful\, joyful energy they bring. \nThis event is by donation\, and all proceeds directly benefit our rescue\, which is home to over 250 animals including goats\, mini horses\, cows\, donkeys\, and more. Your support helps us provide daily care\, medical treatment\, food\, and safe shelter to animals who need a second chance. \n💛 Round Up for Rescue – May & June\nWe’re honored to be selected as Murdoch’s Round-Up Nonprofit for May and June! While you’re shopping\, please consider rounding up your total at the register—those small contributions make a huge difference for our rescue family. Every dollar helps us continue our mission of compassion\, rehabilitation\, and lifelong sanctuary for animals in need. \nCome by\, bring a friend\, enjoy the goats\, and help us make a difference—one cuddle and one coin at a time. \nWe hope to see you there!
URL:https://www.jjsecondchancesmallholdings.com/event/goat-therapy-at-murdochs-laramie-11/
LOCATION:Murdoch’s in Laramie\, 3322 Grand Ave\, Laramie\, WY\, 82070\, United States
CATEGORIES:Laramie Event,Laramie Events,Murdoch's Laramie
ATTACH;FMTTYPE=image/jpeg:https://www.jjsecondchancesmallholdings.com/wp-content/uploads/Goat-with-wings.jpg
ORGANIZER;CN="J & J Second Chance Small Holdings - Home":MAILTO:jjsecondchancesmallholdings@gmail.com
END:VEVENT
END:VCALENDAR