BEGIN:VCALENDAR
VERSION:2.0
PRODID:-//J&amp;J Second Chance Small Holdings - ECPv6.15.20//NONSGML v1.0//EN
CALSCALE:GREGORIAN
METHOD:PUBLISH
X-WR-CALNAME:J&amp;J Second Chance Small Holdings
X-ORIGINAL-URL:https://www.jjsecondchancesmallholdings.com
X-WR-CALDESC:Events for J&amp;J Second Chance Small Holdings
REFRESH-INTERVAL;VALUE=DURATION:PT1H
X-Robots-Tag:noindex
X-PUBLISHED-TTL:PT1H
BEGIN:VTIMEZONE
TZID:UTC
BEGIN:STANDARD
TZOFFSETFROM:+0000
TZOFFSETTO:+0000
TZNAME:UTC
DTSTART:20240101T000000
END:STANDARD
END:VTIMEZONE
BEGIN:VEVENT
DTSTART;TZID=UTC:20250802T090000
DTEND;TZID=UTC:20250802T170000
DTSTAMP:20260422T223710
CREATED:20250728T224430Z
LAST-MODIFIED:20250728T224430Z
UID:5309-1754125200-1754154000@www.jjsecondchancesmallholdings.com
SUMMARY:Rescue Work Day
DESCRIPTION:🌾 Rescue Work Day – Come Lend a Hand! 🐐 \nWe’re hosting a Work Day at the Rescue and we’d love your help! Join us as we roll up our sleeves to make improvements around the property—all to create a safer\, happier space for the animals in our care. \nWhether it’s fixing fences\, organizing supplies\, cleaning barns\, or just spending time with the animals\, every helping hand makes a big difference. \n🗓 Date: August 2nd Saturday🕘 Time: 9:00 AM – 4:00/5:00 PM🍴 Lunch will be provided! \nPlease let us know if you plan to come so we can make sure we have enough food\, tools\, and tasks ready for everyone. You can message us directly or email [your email address]. \nWe can’t wait to work alongside you and share our mission to give these animals the second chance they deserve! \n— The Goat Ladies 🐾J & J Second Chance Small Holdings
URL:https://www.jjsecondchancesmallholdings.com/event/rescue-work-day-25/
LOCATION:J & J Second Chance Small Holdings – Rescue\, 417 Schultz Rd\, Rock River\, 82083\, United States
CATEGORIES:Farm Work Days,Rock River Wyoming
ORGANIZER;CN="J & J Second Chance Small Holdings - Home":MAILTO:jjsecondchancesmallholdings@gmail.com
END:VEVENT
BEGIN:VEVENT
DTSTART;TZID=UTC:20250803T090000
DTEND;TZID=UTC:20250803T170000
DTSTAMP:20260422T223710
CREATED:20250728T224735Z
LAST-MODIFIED:20250728T224735Z
UID:5311-1754211600-1754240400@www.jjsecondchancesmallholdings.com
SUMMARY:Rescue Work Day
DESCRIPTION:🌾 Rescue Work Day – Come Lend a Hand! 🐐 \nWe’re hosting a Work Day at the Rescue and we’d love your help! Join us as we roll up our sleeves to make improvements around the property—all to create a safer\, happier space for the animals in our care. \nWhether it’s fixing fences\, organizing supplies\, cleaning barns\, or just spending time with the animals\, every helping hand makes a big difference. \n🗓 Date: August 3rd 2025🕘 Time: 9:00 AM – 4:00/5:00 PM🍴 Lunch will be provided! \nPlease let us know if you plan to come so we can make sure we have enough food\, tools\, and tasks ready for everyone. You can message us directly or email [your email address]. \nWe can’t wait to work alongside you and share our mission to give these animals the second chance they deserve! \n— The Goat Ladies 🐾J & J Second Chance Small Holdings
URL:https://www.jjsecondchancesmallholdings.com/event/rescue-work-day-26/
LOCATION:J & J Second Chance Small Holdings – Rescue\, 417 Schultz Rd\, Rock River\, 82083\, United States
CATEGORIES:Farm Work Days,Rock River Wyoming
ORGANIZER;CN="J & J Second Chance Small Holdings - Home":MAILTO:jjsecondchancesmallholdings@gmail.com
END:VEVENT
END:VCALENDAR